BEGIN:VCALENDAR
VERSION:2.0
PRODID:-//Oceola Fish &amp; Game Club - ECPv6.15.18//NONSGML v1.0//EN
CALSCALE:GREGORIAN
METHOD:PUBLISH
X-WR-CALNAME:Oceola Fish &amp; Game Club
X-ORIGINAL-URL:https://oceola.ca
X-WR-CALDESC:Events for Oceola Fish &amp; Game Club
REFRESH-INTERVAL;VALUE=DURATION:PT1H
X-Robots-Tag:noindex
X-PUBLISHED-TTL:PT1H
BEGIN:VTIMEZONE
TZID:America/Vancouver
BEGIN:DAYLIGHT
TZOFFSETFROM:-0800
TZOFFSETTO:-0700
TZNAME:PDT
DTSTART:20250309T100000
END:DAYLIGHT
BEGIN:STANDARD
TZOFFSETFROM:-0700
TZOFFSETTO:-0800
TZNAME:PST
DTSTART:20251102T090000
END:STANDARD
BEGIN:DAYLIGHT
TZOFFSETFROM:-0800
TZOFFSETTO:-0700
TZNAME:PDT
DTSTART:20260308T100000
END:DAYLIGHT
BEGIN:STANDARD
TZOFFSETFROM:-0700
TZOFFSETTO:-0800
TZNAME:PST
DTSTART:20261101T090000
END:STANDARD
BEGIN:DAYLIGHT
TZOFFSETFROM:-0800
TZOFFSETTO:-0700
TZNAME:PDT
DTSTART:20270314T100000
END:DAYLIGHT
BEGIN:STANDARD
TZOFFSETFROM:-0700
TZOFFSETTO:-0800
TZNAME:PST
DTSTART:20271107T090000
END:STANDARD
END:VTIMEZONE
BEGIN:VEVENT
DTSTART;TZID=America/Vancouver:20260428T190000
DTEND;TZID=America/Vancouver:20260428T200000
DTSTAMP:20260424T144825
CREATED:20260424T184428Z
LAST-MODIFIED:20260424T184431Z
UID:10003704-1777402800-1777406400@oceola.ca
SUMMARY:Indoor Archery Closed - Outdoor flatfield open
DESCRIPTION:
URL:https://oceola.ca/event/indoor-archery-closed-outdoor-flatfield-open/2026-04-28/
END:VEVENT
BEGIN:VEVENT
DTSTART;TZID=America/Vancouver:20260430T190000
DTEND;TZID=America/Vancouver:20260430T200000
DTSTAMP:20260424T144825
CREATED:20260424T184428Z
LAST-MODIFIED:20260424T184431Z
UID:10003705-1777575600-1777579200@oceola.ca
SUMMARY:Indoor Archery Closed - Outdoor flatfield open
DESCRIPTION:
URL:https://oceola.ca/event/indoor-archery-closed-outdoor-flatfield-open/2026-04-30/
END:VEVENT
BEGIN:VEVENT
DTSTART;TZID=America/Vancouver:20260505T190000
DTEND;TZID=America/Vancouver:20260505T200000
DTSTAMP:20260424T144825
CREATED:20260424T184428Z
LAST-MODIFIED:20260424T184431Z
UID:10003706-1778007600-1778011200@oceola.ca
SUMMARY:Indoor Archery Closed - Outdoor flatfield open
DESCRIPTION:
URL:https://oceola.ca/event/indoor-archery-closed-outdoor-flatfield-open/2026-05-05/
END:VEVENT
BEGIN:VEVENT
DTSTART;TZID=America/Vancouver:20260507T190000
DTEND;TZID=America/Vancouver:20260507T200000
DTSTAMP:20260424T144825
CREATED:20260424T184428Z
LAST-MODIFIED:20260424T184431Z
UID:10003707-1778180400-1778184000@oceola.ca
SUMMARY:Indoor Archery Closed - Outdoor flatfield open
DESCRIPTION:
URL:https://oceola.ca/event/indoor-archery-closed-outdoor-flatfield-open/2026-05-07/
END:VEVENT
BEGIN:VEVENT
DTSTART;TZID=America/Vancouver:20260512T190000
DTEND;TZID=America/Vancouver:20260512T200000
DTSTAMP:20260424T144825
CREATED:20260424T184428Z
LAST-MODIFIED:20260424T184431Z
UID:10003708-1778612400-1778616000@oceola.ca
SUMMARY:Indoor Archery Closed - Outdoor flatfield open
DESCRIPTION:
URL:https://oceola.ca/event/indoor-archery-closed-outdoor-flatfield-open/2026-05-12/
END:VEVENT
BEGIN:VEVENT
DTSTART;TZID=America/Vancouver:20260514T190000
DTEND;TZID=America/Vancouver:20260514T200000
DTSTAMP:20260424T144825
CREATED:20260424T184428Z
LAST-MODIFIED:20260424T184431Z
UID:10003709-1778785200-1778788800@oceola.ca
SUMMARY:Indoor Archery Closed - Outdoor flatfield open
DESCRIPTION:
URL:https://oceola.ca/event/indoor-archery-closed-outdoor-flatfield-open/2026-05-14/
END:VEVENT
BEGIN:VEVENT
DTSTART;TZID=America/Vancouver:20260519T190000
DTEND;TZID=America/Vancouver:20260519T200000
DTSTAMP:20260424T144825
CREATED:20260424T184428Z
LAST-MODIFIED:20260424T184431Z
UID:10003710-1779217200-1779220800@oceola.ca
SUMMARY:Indoor Archery Closed - Outdoor flatfield open
DESCRIPTION:
URL:https://oceola.ca/event/indoor-archery-closed-outdoor-flatfield-open/2026-05-19/
END:VEVENT
BEGIN:VEVENT
DTSTART;TZID=America/Vancouver:20260521T190000
DTEND;TZID=America/Vancouver:20260521T200000
DTSTAMP:20260424T144825
CREATED:20260424T184428Z
LAST-MODIFIED:20260424T184431Z
UID:10003711-1779390000-1779393600@oceola.ca
SUMMARY:Indoor Archery Closed - Outdoor flatfield open
DESCRIPTION:
URL:https://oceola.ca/event/indoor-archery-closed-outdoor-flatfield-open/2026-05-21/
END:VEVENT
BEGIN:VEVENT
DTSTART;TZID=America/Vancouver:20260526T190000
DTEND;TZID=America/Vancouver:20260526T200000
DTSTAMP:20260424T144825
CREATED:20260424T184428Z
LAST-MODIFIED:20260424T184431Z
UID:10003712-1779822000-1779825600@oceola.ca
SUMMARY:Indoor Archery Closed - Outdoor flatfield open
DESCRIPTION:
URL:https://oceola.ca/event/indoor-archery-closed-outdoor-flatfield-open/2026-05-26/
END:VEVENT
BEGIN:VEVENT
DTSTART;TZID=America/Vancouver:20260528T190000
DTEND;TZID=America/Vancouver:20260528T200000
DTSTAMP:20260424T144825
CREATED:20260424T184428Z
LAST-MODIFIED:20260424T184431Z
UID:10003713-1779994800-1779998400@oceola.ca
SUMMARY:Indoor Archery Closed - Outdoor flatfield open
DESCRIPTION:
URL:https://oceola.ca/event/indoor-archery-closed-outdoor-flatfield-open/2026-05-28/
END:VEVENT
BEGIN:VEVENT
DTSTART;TZID=America/Vancouver:20260602T190000
DTEND;TZID=America/Vancouver:20260602T200000
DTSTAMP:20260424T144825
CREATED:20260424T184428Z
LAST-MODIFIED:20260424T184431Z
UID:10003714-1780426800-1780430400@oceola.ca
SUMMARY:Indoor Archery Closed - Outdoor flatfield open
DESCRIPTION:
URL:https://oceola.ca/event/indoor-archery-closed-outdoor-flatfield-open/2026-06-02/
END:VEVENT
BEGIN:VEVENT
DTSTART;TZID=America/Vancouver:20260604T190000
DTEND;TZID=America/Vancouver:20260604T200000
DTSTAMP:20260424T144825
CREATED:20260424T184428Z
LAST-MODIFIED:20260424T184431Z
UID:10003715-1780599600-1780603200@oceola.ca
SUMMARY:Indoor Archery Closed - Outdoor flatfield open
DESCRIPTION:
URL:https://oceola.ca/event/indoor-archery-closed-outdoor-flatfield-open/2026-06-04/
END:VEVENT
BEGIN:VEVENT
DTSTART;TZID=America/Vancouver:20260609T190000
DTEND;TZID=America/Vancouver:20260609T200000
DTSTAMP:20260424T144825
CREATED:20260424T184428Z
LAST-MODIFIED:20260424T184431Z
UID:10003716-1781031600-1781035200@oceola.ca
SUMMARY:Indoor Archery Closed - Outdoor flatfield open
DESCRIPTION:
URL:https://oceola.ca/event/indoor-archery-closed-outdoor-flatfield-open/2026-06-09/
END:VEVENT
BEGIN:VEVENT
DTSTART;TZID=America/Vancouver:20260611T190000
DTEND;TZID=America/Vancouver:20260611T200000
DTSTAMP:20260424T144825
CREATED:20260424T184428Z
LAST-MODIFIED:20260424T184431Z
UID:10003717-1781204400-1781208000@oceola.ca
SUMMARY:Indoor Archery Closed - Outdoor flatfield open
DESCRIPTION:
URL:https://oceola.ca/event/indoor-archery-closed-outdoor-flatfield-open/2026-06-11/
END:VEVENT
BEGIN:VEVENT
DTSTART;TZID=America/Vancouver:20260616T190000
DTEND;TZID=America/Vancouver:20260616T200000
DTSTAMP:20260424T144825
CREATED:20260424T184428Z
LAST-MODIFIED:20260424T184431Z
UID:10003718-1781636400-1781640000@oceola.ca
SUMMARY:Indoor Archery Closed - Outdoor flatfield open
DESCRIPTION:
URL:https://oceola.ca/event/indoor-archery-closed-outdoor-flatfield-open/2026-06-16/
END:VEVENT
BEGIN:VEVENT
DTSTART;TZID=America/Vancouver:20260618T190000
DTEND;TZID=America/Vancouver:20260618T200000
DTSTAMP:20260424T144825
CREATED:20260424T184428Z
LAST-MODIFIED:20260424T184431Z
UID:10003719-1781809200-1781812800@oceola.ca
SUMMARY:Indoor Archery Closed - Outdoor flatfield open
DESCRIPTION:
URL:https://oceola.ca/event/indoor-archery-closed-outdoor-flatfield-open/2026-06-18/
END:VEVENT
BEGIN:VEVENT
DTSTART;TZID=America/Vancouver:20260623T190000
DTEND;TZID=America/Vancouver:20260623T200000
DTSTAMP:20260424T144825
CREATED:20260424T184428Z
LAST-MODIFIED:20260424T184431Z
UID:10003720-1782241200-1782244800@oceola.ca
SUMMARY:Indoor Archery Closed - Outdoor flatfield open
DESCRIPTION:
URL:https://oceola.ca/event/indoor-archery-closed-outdoor-flatfield-open/2026-06-23/
END:VEVENT
BEGIN:VEVENT
DTSTART;TZID=America/Vancouver:20260625T190000
DTEND;TZID=America/Vancouver:20260625T200000
DTSTAMP:20260424T144825
CREATED:20260424T184428Z
LAST-MODIFIED:20260424T184431Z
UID:10003721-1782414000-1782417600@oceola.ca
SUMMARY:Indoor Archery Closed - Outdoor flatfield open
DESCRIPTION:
URL:https://oceola.ca/event/indoor-archery-closed-outdoor-flatfield-open/2026-06-25/
END:VEVENT
BEGIN:VEVENT
DTSTART;TZID=America/Vancouver:20260630T190000
DTEND;TZID=America/Vancouver:20260630T200000
DTSTAMP:20260424T144825
CREATED:20260424T184428Z
LAST-MODIFIED:20260424T184431Z
UID:10003722-1782846000-1782849600@oceola.ca
SUMMARY:Indoor Archery Closed - Outdoor flatfield open
DESCRIPTION:
URL:https://oceola.ca/event/indoor-archery-closed-outdoor-flatfield-open/2026-06-30/
END:VEVENT
BEGIN:VEVENT
DTSTART;TZID=America/Vancouver:20260702T190000
DTEND;TZID=America/Vancouver:20260702T200000
DTSTAMP:20260424T144825
CREATED:20260424T184428Z
LAST-MODIFIED:20260424T184431Z
UID:10003723-1783018800-1783022400@oceola.ca
SUMMARY:Indoor Archery Closed - Outdoor flatfield open
DESCRIPTION:
URL:https://oceola.ca/event/indoor-archery-closed-outdoor-flatfield-open/2026-07-02/
END:VEVENT
BEGIN:VEVENT
DTSTART;TZID=America/Vancouver:20260707T190000
DTEND;TZID=America/Vancouver:20260707T200000
DTSTAMP:20260424T144825
CREATED:20260424T184428Z
LAST-MODIFIED:20260424T184431Z
UID:10003724-1783450800-1783454400@oceola.ca
SUMMARY:Indoor Archery Closed - Outdoor flatfield open
DESCRIPTION:
URL:https://oceola.ca/event/indoor-archery-closed-outdoor-flatfield-open/2026-07-07/
END:VEVENT
BEGIN:VEVENT
DTSTART;TZID=America/Vancouver:20260709T190000
DTEND;TZID=America/Vancouver:20260709T200000
DTSTAMP:20260424T144825
CREATED:20260424T184428Z
LAST-MODIFIED:20260424T184431Z
UID:10003725-1783623600-1783627200@oceola.ca
SUMMARY:Indoor Archery Closed - Outdoor flatfield open
DESCRIPTION:
URL:https://oceola.ca/event/indoor-archery-closed-outdoor-flatfield-open/2026-07-09/
END:VEVENT
BEGIN:VEVENT
DTSTART;TZID=America/Vancouver:20260714T190000
DTEND;TZID=America/Vancouver:20260714T200000
DTSTAMP:20260424T144825
CREATED:20260424T184428Z
LAST-MODIFIED:20260424T184431Z
UID:10003726-1784055600-1784059200@oceola.ca
SUMMARY:Indoor Archery Closed - Outdoor flatfield open
DESCRIPTION:
URL:https://oceola.ca/event/indoor-archery-closed-outdoor-flatfield-open/2026-07-14/
END:VEVENT
BEGIN:VEVENT
DTSTART;TZID=America/Vancouver:20260716T190000
DTEND;TZID=America/Vancouver:20260716T200000
DTSTAMP:20260424T144825
CREATED:20260424T184428Z
LAST-MODIFIED:20260424T184431Z
UID:10003727-1784228400-1784232000@oceola.ca
SUMMARY:Indoor Archery Closed - Outdoor flatfield open
DESCRIPTION:
URL:https://oceola.ca/event/indoor-archery-closed-outdoor-flatfield-open/2026-07-16/
END:VEVENT
BEGIN:VEVENT
DTSTART;TZID=America/Vancouver:20260721T190000
DTEND;TZID=America/Vancouver:20260721T200000
DTSTAMP:20260424T144825
CREATED:20260424T184428Z
LAST-MODIFIED:20260424T184431Z
UID:10003728-1784660400-1784664000@oceola.ca
SUMMARY:Indoor Archery Closed - Outdoor flatfield open
DESCRIPTION:
URL:https://oceola.ca/event/indoor-archery-closed-outdoor-flatfield-open/2026-07-21/
END:VEVENT
BEGIN:VEVENT
DTSTART;TZID=America/Vancouver:20260723T190000
DTEND;TZID=America/Vancouver:20260723T200000
DTSTAMP:20260424T144825
CREATED:20260424T184428Z
LAST-MODIFIED:20260424T184431Z
UID:10003729-1784833200-1784836800@oceola.ca
SUMMARY:Indoor Archery Closed - Outdoor flatfield open
DESCRIPTION:
URL:https://oceola.ca/event/indoor-archery-closed-outdoor-flatfield-open/2026-07-23/
END:VEVENT
BEGIN:VEVENT
DTSTART;TZID=America/Vancouver:20260728T190000
DTEND;TZID=America/Vancouver:20260728T200000
DTSTAMP:20260424T144825
CREATED:20260424T184428Z
LAST-MODIFIED:20260424T184431Z
UID:10003730-1785265200-1785268800@oceola.ca
SUMMARY:Indoor Archery Closed - Outdoor flatfield open
DESCRIPTION:
URL:https://oceola.ca/event/indoor-archery-closed-outdoor-flatfield-open/2026-07-28/
END:VEVENT
BEGIN:VEVENT
DTSTART;TZID=America/Vancouver:20260730T190000
DTEND;TZID=America/Vancouver:20260730T200000
DTSTAMP:20260424T144825
CREATED:20260424T184428Z
LAST-MODIFIED:20260424T184431Z
UID:10003731-1785438000-1785441600@oceola.ca
SUMMARY:Indoor Archery Closed - Outdoor flatfield open
DESCRIPTION:
URL:https://oceola.ca/event/indoor-archery-closed-outdoor-flatfield-open/2026-07-30/
END:VEVENT
BEGIN:VEVENT
DTSTART;TZID=America/Vancouver:20260804T190000
DTEND;TZID=America/Vancouver:20260804T200000
DTSTAMP:20260424T144825
CREATED:20260424T184428Z
LAST-MODIFIED:20260424T184431Z
UID:10003732-1785870000-1785873600@oceola.ca
SUMMARY:Indoor Archery Closed - Outdoor flatfield open
DESCRIPTION:
URL:https://oceola.ca/event/indoor-archery-closed-outdoor-flatfield-open/2026-08-04/
END:VEVENT
BEGIN:VEVENT
DTSTART;TZID=America/Vancouver:20260806T190000
DTEND;TZID=America/Vancouver:20260806T200000
DTSTAMP:20260424T144825
CREATED:20260424T184428Z
LAST-MODIFIED:20260424T184431Z
UID:10003733-1786042800-1786046400@oceola.ca
SUMMARY:Indoor Archery Closed - Outdoor flatfield open
DESCRIPTION:
URL:https://oceola.ca/event/indoor-archery-closed-outdoor-flatfield-open/2026-08-06/
END:VEVENT
END:VCALENDAR