BEGIN:VCALENDAR
VERSION:2.0
PRODID:-//Oceola Fish &amp; Game Club - ECPv6.15.18//NONSGML v1.0//EN
CALSCALE:GREGORIAN
METHOD:PUBLISH
X-WR-CALNAME:Oceola Fish &amp; Game Club
X-ORIGINAL-URL:https://oceola.ca
X-WR-CALDESC:Events for Oceola Fish &amp; Game Club
REFRESH-INTERVAL;VALUE=DURATION:PT1H
X-Robots-Tag:noindex
X-PUBLISHED-TTL:PT1H
BEGIN:VTIMEZONE
TZID:America/Vancouver
BEGIN:DAYLIGHT
TZOFFSETFROM:-0800
TZOFFSETTO:-0700
TZNAME:PDT
DTSTART:20260308T100000
END:DAYLIGHT
BEGIN:STANDARD
TZOFFSETFROM:-0700
TZOFFSETTO:-0800
TZNAME:PST
DTSTART:20261101T090000
END:STANDARD
BEGIN:DAYLIGHT
TZOFFSETFROM:-0800
TZOFFSETTO:-0700
TZNAME:PDT
DTSTART:20270314T100000
END:DAYLIGHT
BEGIN:STANDARD
TZOFFSETFROM:-0700
TZOFFSETTO:-0800
TZNAME:PST
DTSTART:20271107T090000
END:STANDARD
BEGIN:DAYLIGHT
TZOFFSETFROM:-0800
TZOFFSETTO:-0700
TZNAME:PDT
DTSTART:20280312T100000
END:DAYLIGHT
BEGIN:STANDARD
TZOFFSETFROM:-0700
TZOFFSETTO:-0800
TZNAME:PST
DTSTART:20281105T090000
END:STANDARD
BEGIN:DAYLIGHT
TZOFFSETFROM:-0800
TZOFFSETTO:-0700
TZNAME:PDT
DTSTART:20290311T100000
END:DAYLIGHT
BEGIN:STANDARD
TZOFFSETFROM:-0700
TZOFFSETTO:-0800
TZNAME:PST
DTSTART:20291104T090000
END:STANDARD
END:VTIMEZONE
BEGIN:VEVENT
DTSTART;TZID=America/Vancouver:20271206T190000
DTEND;TZID=America/Vancouver:20271206T203000
DTSTAMP:20260425T055828
CREATED:20251126T165800Z
LAST-MODIFIED:20251126T185429Z
UID:10003520-1828119600-1828125000@oceola.ca
SUMMARY:Indoor handgun
DESCRIPTION:Bring out your handguns or .22 rifles and enjoy an evening shoot. Location Oceola Clubhouse
URL:https://oceola.ca/event/indoor-handgun-5/2027-12-06/
LOCATION:11888 McGowan Rd A\, Lake Country\, BC V4V 1J2\, 11888 McGowan Rd A\, Lake Country \,BC\, BC\, V4V 1J2\, Canada
END:VEVENT
BEGIN:VEVENT
DTSTART;TZID=America/Vancouver:20271210T190000
DTEND;TZID=America/Vancouver:20271210T203000
DTSTAMP:20260425T055828
CREATED:20251126T165800Z
LAST-MODIFIED:20251126T185429Z
UID:10002778-1828465200-1828470600@oceola.ca
SUMMARY:Indoor handgun
DESCRIPTION:Bring out your handguns or .22 rifles and enjoy an evening shoot. Location Oceola Clubhouse
URL:https://oceola.ca/event/indoor-handgun-5/2027-12-10/
LOCATION:11888 McGowan Rd A\, Lake Country\, BC V4V 1J2\, 11888 McGowan Rd A\, Lake Country \,BC\, BC\, V4V 1J2\, Canada
END:VEVENT
BEGIN:VEVENT
DTSTART;TZID=America/Vancouver:20271213T190000
DTEND;TZID=America/Vancouver:20271213T203000
DTSTAMP:20260425T055828
CREATED:20251126T165800Z
LAST-MODIFIED:20251126T185429Z
UID:10003521-1828724400-1828729800@oceola.ca
SUMMARY:Indoor handgun
DESCRIPTION:Bring out your handguns or .22 rifles and enjoy an evening shoot. Location Oceola Clubhouse
URL:https://oceola.ca/event/indoor-handgun-5/2027-12-13/
LOCATION:11888 McGowan Rd A\, Lake Country\, BC V4V 1J2\, 11888 McGowan Rd A\, Lake Country \,BC\, BC\, V4V 1J2\, Canada
END:VEVENT
BEGIN:VEVENT
DTSTART;TZID=America/Vancouver:20271217T190000
DTEND;TZID=America/Vancouver:20271217T203000
DTSTAMP:20260425T055828
CREATED:20251126T165800Z
LAST-MODIFIED:20251126T185429Z
UID:10002780-1829070000-1829075400@oceola.ca
SUMMARY:Indoor handgun
DESCRIPTION:Bring out your handguns or .22 rifles and enjoy an evening shoot. Location Oceola Clubhouse
URL:https://oceola.ca/event/indoor-handgun-5/2027-12-17/
LOCATION:11888 McGowan Rd A\, Lake Country\, BC V4V 1J2\, 11888 McGowan Rd A\, Lake Country \,BC\, BC\, V4V 1J2\, Canada
END:VEVENT
BEGIN:VEVENT
DTSTART;TZID=America/Vancouver:20271220T190000
DTEND;TZID=America/Vancouver:20271220T203000
DTSTAMP:20260425T055828
CREATED:20251126T165800Z
LAST-MODIFIED:20251126T185429Z
UID:10003522-1829329200-1829334600@oceola.ca
SUMMARY:Indoor handgun
DESCRIPTION:Bring out your handguns or .22 rifles and enjoy an evening shoot. Location Oceola Clubhouse
URL:https://oceola.ca/event/indoor-handgun-5/2027-12-20/
LOCATION:11888 McGowan Rd A\, Lake Country\, BC V4V 1J2\, 11888 McGowan Rd A\, Lake Country \,BC\, BC\, V4V 1J2\, Canada
END:VEVENT
BEGIN:VEVENT
DTSTART;TZID=America/Vancouver:20271224T190000
DTEND;TZID=America/Vancouver:20271224T203000
DTSTAMP:20260425T055828
CREATED:20251126T165800Z
LAST-MODIFIED:20251126T185429Z
UID:10002782-1829674800-1829680200@oceola.ca
SUMMARY:Indoor handgun
DESCRIPTION:Bring out your handguns or .22 rifles and enjoy an evening shoot. Location Oceola Clubhouse
URL:https://oceola.ca/event/indoor-handgun-5/2027-12-24/
LOCATION:11888 McGowan Rd A\, Lake Country\, BC V4V 1J2\, 11888 McGowan Rd A\, Lake Country \,BC\, BC\, V4V 1J2\, Canada
END:VEVENT
BEGIN:VEVENT
DTSTART;TZID=America/Vancouver:20271227T190000
DTEND;TZID=America/Vancouver:20271227T203000
DTSTAMP:20260425T055828
CREATED:20251126T165800Z
LAST-MODIFIED:20251126T185429Z
UID:10003523-1829934000-1829939400@oceola.ca
SUMMARY:Indoor handgun
DESCRIPTION:Bring out your handguns or .22 rifles and enjoy an evening shoot. Location Oceola Clubhouse
URL:https://oceola.ca/event/indoor-handgun-5/2027-12-27/
LOCATION:11888 McGowan Rd A\, Lake Country\, BC V4V 1J2\, 11888 McGowan Rd A\, Lake Country \,BC\, BC\, V4V 1J2\, Canada
END:VEVENT
BEGIN:VEVENT
DTSTART;TZID=America/Vancouver:20271231T190000
DTEND;TZID=America/Vancouver:20271231T203000
DTSTAMP:20260425T055828
CREATED:20251126T165800Z
LAST-MODIFIED:20251126T185429Z
UID:10002784-1830279600-1830285000@oceola.ca
SUMMARY:Indoor handgun
DESCRIPTION:Bring out your handguns or .22 rifles and enjoy an evening shoot. Location Oceola Clubhouse
URL:https://oceola.ca/event/indoor-handgun-5/2027-12-31/
LOCATION:11888 McGowan Rd A\, Lake Country\, BC V4V 1J2\, 11888 McGowan Rd A\, Lake Country \,BC\, BC\, V4V 1J2\, Canada
END:VEVENT
BEGIN:VEVENT
DTSTART;TZID=America/Vancouver:20280103T190000
DTEND;TZID=America/Vancouver:20280103T203000
DTSTAMP:20260425T055828
CREATED:20251126T165800Z
LAST-MODIFIED:20251126T185429Z
UID:10003524-1830538800-1830544200@oceola.ca
SUMMARY:Indoor handgun
DESCRIPTION:Bring out your handguns or .22 rifles and enjoy an evening shoot. Location Oceola Clubhouse
URL:https://oceola.ca/event/indoor-handgun-5/2028-01-03/
LOCATION:11888 McGowan Rd A\, Lake Country\, BC V4V 1J2\, 11888 McGowan Rd A\, Lake Country \,BC\, BC\, V4V 1J2\, Canada
END:VEVENT
BEGIN:VEVENT
DTSTART;TZID=America/Vancouver:20280107T190000
DTEND;TZID=America/Vancouver:20280107T203000
DTSTAMP:20260425T055828
CREATED:20251126T165800Z
LAST-MODIFIED:20251126T185429Z
UID:10002786-1830884400-1830889800@oceola.ca
SUMMARY:Indoor handgun
DESCRIPTION:Bring out your handguns or .22 rifles and enjoy an evening shoot. Location Oceola Clubhouse
URL:https://oceola.ca/event/indoor-handgun-5/2028-01-07/
LOCATION:11888 McGowan Rd A\, Lake Country\, BC V4V 1J2\, 11888 McGowan Rd A\, Lake Country \,BC\, BC\, V4V 1J2\, Canada
END:VEVENT
BEGIN:VEVENT
DTSTART;TZID=America/Vancouver:20280110T190000
DTEND;TZID=America/Vancouver:20280110T203000
DTSTAMP:20260425T055828
CREATED:20251126T165800Z
LAST-MODIFIED:20251126T185429Z
UID:10003525-1831143600-1831149000@oceola.ca
SUMMARY:Indoor handgun
DESCRIPTION:Bring out your handguns or .22 rifles and enjoy an evening shoot. Location Oceola Clubhouse
URL:https://oceola.ca/event/indoor-handgun-5/2028-01-10/
LOCATION:11888 McGowan Rd A\, Lake Country\, BC V4V 1J2\, 11888 McGowan Rd A\, Lake Country \,BC\, BC\, V4V 1J2\, Canada
END:VEVENT
BEGIN:VEVENT
DTSTART;TZID=America/Vancouver:20280114T190000
DTEND;TZID=America/Vancouver:20280114T203000
DTSTAMP:20260425T055828
CREATED:20251126T165800Z
LAST-MODIFIED:20251126T185429Z
UID:10002788-1831489200-1831494600@oceola.ca
SUMMARY:Indoor handgun
DESCRIPTION:Bring out your handguns or .22 rifles and enjoy an evening shoot. Location Oceola Clubhouse
URL:https://oceola.ca/event/indoor-handgun-5/2028-01-14/
LOCATION:11888 McGowan Rd A\, Lake Country\, BC V4V 1J2\, 11888 McGowan Rd A\, Lake Country \,BC\, BC\, V4V 1J2\, Canada
END:VEVENT
BEGIN:VEVENT
DTSTART;TZID=America/Vancouver:20280117T190000
DTEND;TZID=America/Vancouver:20280117T203000
DTSTAMP:20260425T055828
CREATED:20251126T165800Z
LAST-MODIFIED:20251126T185429Z
UID:10003526-1831748400-1831753800@oceola.ca
SUMMARY:Indoor handgun
DESCRIPTION:Bring out your handguns or .22 rifles and enjoy an evening shoot. Location Oceola Clubhouse
URL:https://oceola.ca/event/indoor-handgun-5/2028-01-17/
LOCATION:11888 McGowan Rd A\, Lake Country\, BC V4V 1J2\, 11888 McGowan Rd A\, Lake Country \,BC\, BC\, V4V 1J2\, Canada
END:VEVENT
BEGIN:VEVENT
DTSTART;TZID=America/Vancouver:20280121T190000
DTEND;TZID=America/Vancouver:20280121T203000
DTSTAMP:20260425T055828
CREATED:20251126T165800Z
LAST-MODIFIED:20251126T185429Z
UID:10002790-1832094000-1832099400@oceola.ca
SUMMARY:Indoor handgun
DESCRIPTION:Bring out your handguns or .22 rifles and enjoy an evening shoot. Location Oceola Clubhouse
URL:https://oceola.ca/event/indoor-handgun-5/2028-01-21/
LOCATION:11888 McGowan Rd A\, Lake Country\, BC V4V 1J2\, 11888 McGowan Rd A\, Lake Country \,BC\, BC\, V4V 1J2\, Canada
END:VEVENT
BEGIN:VEVENT
DTSTART;TZID=America/Vancouver:20280124T190000
DTEND;TZID=America/Vancouver:20280124T203000
DTSTAMP:20260425T055828
CREATED:20251126T165800Z
LAST-MODIFIED:20251126T185429Z
UID:10003527-1832353200-1832358600@oceola.ca
SUMMARY:Indoor handgun
DESCRIPTION:Bring out your handguns or .22 rifles and enjoy an evening shoot. Location Oceola Clubhouse
URL:https://oceola.ca/event/indoor-handgun-5/2028-01-24/
LOCATION:11888 McGowan Rd A\, Lake Country\, BC V4V 1J2\, 11888 McGowan Rd A\, Lake Country \,BC\, BC\, V4V 1J2\, Canada
END:VEVENT
BEGIN:VEVENT
DTSTART;TZID=America/Vancouver:20280128T190000
DTEND;TZID=America/Vancouver:20280128T203000
DTSTAMP:20260425T055828
CREATED:20251126T165800Z
LAST-MODIFIED:20251126T185429Z
UID:10002792-1832698800-1832704200@oceola.ca
SUMMARY:Indoor handgun
DESCRIPTION:Bring out your handguns or .22 rifles and enjoy an evening shoot. Location Oceola Clubhouse
URL:https://oceola.ca/event/indoor-handgun-5/2028-01-28/
LOCATION:11888 McGowan Rd A\, Lake Country\, BC V4V 1J2\, 11888 McGowan Rd A\, Lake Country \,BC\, BC\, V4V 1J2\, Canada
END:VEVENT
BEGIN:VEVENT
DTSTART;TZID=America/Vancouver:20280131T190000
DTEND;TZID=America/Vancouver:20280131T203000
DTSTAMP:20260425T055828
CREATED:20251126T165800Z
LAST-MODIFIED:20251126T185429Z
UID:10003528-1832958000-1832963400@oceola.ca
SUMMARY:Indoor handgun
DESCRIPTION:Bring out your handguns or .22 rifles and enjoy an evening shoot. Location Oceola Clubhouse
URL:https://oceola.ca/event/indoor-handgun-5/2028-01-31/
LOCATION:11888 McGowan Rd A\, Lake Country\, BC V4V 1J2\, 11888 McGowan Rd A\, Lake Country \,BC\, BC\, V4V 1J2\, Canada
END:VEVENT
BEGIN:VEVENT
DTSTART;TZID=America/Vancouver:20280204T190000
DTEND;TZID=America/Vancouver:20280204T203000
DTSTAMP:20260425T055828
CREATED:20251126T165800Z
LAST-MODIFIED:20251126T185429Z
UID:10002794-1833303600-1833309000@oceola.ca
SUMMARY:Indoor handgun
DESCRIPTION:Bring out your handguns or .22 rifles and enjoy an evening shoot. Location Oceola Clubhouse
URL:https://oceola.ca/event/indoor-handgun-5/2028-02-04/
LOCATION:11888 McGowan Rd A\, Lake Country\, BC V4V 1J2\, 11888 McGowan Rd A\, Lake Country \,BC\, BC\, V4V 1J2\, Canada
END:VEVENT
BEGIN:VEVENT
DTSTART;TZID=America/Vancouver:20280207T190000
DTEND;TZID=America/Vancouver:20280207T203000
DTSTAMP:20260425T055828
CREATED:20251126T165800Z
LAST-MODIFIED:20251126T185429Z
UID:10003529-1833562800-1833568200@oceola.ca
SUMMARY:Indoor handgun
DESCRIPTION:Bring out your handguns or .22 rifles and enjoy an evening shoot. Location Oceola Clubhouse
URL:https://oceola.ca/event/indoor-handgun-5/2028-02-07/
LOCATION:11888 McGowan Rd A\, Lake Country\, BC V4V 1J2\, 11888 McGowan Rd A\, Lake Country \,BC\, BC\, V4V 1J2\, Canada
END:VEVENT
BEGIN:VEVENT
DTSTART;TZID=America/Vancouver:20280211T190000
DTEND;TZID=America/Vancouver:20280211T203000
DTSTAMP:20260425T055828
CREATED:20251126T165800Z
LAST-MODIFIED:20251126T185429Z
UID:10002796-1833908400-1833913800@oceola.ca
SUMMARY:Indoor handgun
DESCRIPTION:Bring out your handguns or .22 rifles and enjoy an evening shoot. Location Oceola Clubhouse
URL:https://oceola.ca/event/indoor-handgun-5/2028-02-11/
LOCATION:11888 McGowan Rd A\, Lake Country\, BC V4V 1J2\, 11888 McGowan Rd A\, Lake Country \,BC\, BC\, V4V 1J2\, Canada
END:VEVENT
BEGIN:VEVENT
DTSTART;TZID=America/Vancouver:20280214T190000
DTEND;TZID=America/Vancouver:20280214T203000
DTSTAMP:20260425T055828
CREATED:20251126T165800Z
LAST-MODIFIED:20251126T185429Z
UID:10003530-1834167600-1834173000@oceola.ca
SUMMARY:Indoor handgun
DESCRIPTION:Bring out your handguns or .22 rifles and enjoy an evening shoot. Location Oceola Clubhouse
URL:https://oceola.ca/event/indoor-handgun-5/2028-02-14/
LOCATION:11888 McGowan Rd A\, Lake Country\, BC V4V 1J2\, 11888 McGowan Rd A\, Lake Country \,BC\, BC\, V4V 1J2\, Canada
END:VEVENT
BEGIN:VEVENT
DTSTART;TZID=America/Vancouver:20280218T190000
DTEND;TZID=America/Vancouver:20280218T203000
DTSTAMP:20260425T055828
CREATED:20251126T165800Z
LAST-MODIFIED:20251126T185429Z
UID:10002798-1834513200-1834518600@oceola.ca
SUMMARY:Indoor handgun
DESCRIPTION:Bring out your handguns or .22 rifles and enjoy an evening shoot. Location Oceola Clubhouse
URL:https://oceola.ca/event/indoor-handgun-5/2028-02-18/
LOCATION:11888 McGowan Rd A\, Lake Country\, BC V4V 1J2\, 11888 McGowan Rd A\, Lake Country \,BC\, BC\, V4V 1J2\, Canada
END:VEVENT
BEGIN:VEVENT
DTSTART;TZID=America/Vancouver:20280221T190000
DTEND;TZID=America/Vancouver:20280221T203000
DTSTAMP:20260425T055828
CREATED:20251126T165800Z
LAST-MODIFIED:20251126T185429Z
UID:10003531-1834772400-1834777800@oceola.ca
SUMMARY:Indoor handgun
DESCRIPTION:Bring out your handguns or .22 rifles and enjoy an evening shoot. Location Oceola Clubhouse
URL:https://oceola.ca/event/indoor-handgun-5/2028-02-21/
LOCATION:11888 McGowan Rd A\, Lake Country\, BC V4V 1J2\, 11888 McGowan Rd A\, Lake Country \,BC\, BC\, V4V 1J2\, Canada
END:VEVENT
BEGIN:VEVENT
DTSTART;TZID=America/Vancouver:20280225T190000
DTEND;TZID=America/Vancouver:20280225T203000
DTSTAMP:20260425T055828
CREATED:20251126T165800Z
LAST-MODIFIED:20251126T185429Z
UID:10002800-1835118000-1835123400@oceola.ca
SUMMARY:Indoor handgun
DESCRIPTION:Bring out your handguns or .22 rifles and enjoy an evening shoot. Location Oceola Clubhouse
URL:https://oceola.ca/event/indoor-handgun-5/2028-02-25/
LOCATION:11888 McGowan Rd A\, Lake Country\, BC V4V 1J2\, 11888 McGowan Rd A\, Lake Country \,BC\, BC\, V4V 1J2\, Canada
END:VEVENT
BEGIN:VEVENT
DTSTART;TZID=America/Vancouver:20280228T190000
DTEND;TZID=America/Vancouver:20280228T203000
DTSTAMP:20260425T055828
CREATED:20251126T165800Z
LAST-MODIFIED:20251126T185429Z
UID:10003532-1835377200-1835382600@oceola.ca
SUMMARY:Indoor handgun
DESCRIPTION:Bring out your handguns or .22 rifles and enjoy an evening shoot. Location Oceola Clubhouse
URL:https://oceola.ca/event/indoor-handgun-5/2028-02-28/
LOCATION:11888 McGowan Rd A\, Lake Country\, BC V4V 1J2\, 11888 McGowan Rd A\, Lake Country \,BC\, BC\, V4V 1J2\, Canada
END:VEVENT
BEGIN:VEVENT
DTSTART;TZID=America/Vancouver:20280303T190000
DTEND;TZID=America/Vancouver:20280303T203000
DTSTAMP:20260425T055828
CREATED:20251126T165800Z
LAST-MODIFIED:20251126T185429Z
UID:10002802-1835722800-1835728200@oceola.ca
SUMMARY:Indoor handgun
DESCRIPTION:Bring out your handguns or .22 rifles and enjoy an evening shoot. Location Oceola Clubhouse
URL:https://oceola.ca/event/indoor-handgun-5/2028-03-03/
LOCATION:11888 McGowan Rd A\, Lake Country\, BC V4V 1J2\, 11888 McGowan Rd A\, Lake Country \,BC\, BC\, V4V 1J2\, Canada
END:VEVENT
BEGIN:VEVENT
DTSTART;TZID=America/Vancouver:20280306T190000
DTEND;TZID=America/Vancouver:20280306T203000
DTSTAMP:20260425T055828
CREATED:20251126T165800Z
LAST-MODIFIED:20251126T185429Z
UID:10003533-1835982000-1835987400@oceola.ca
SUMMARY:Indoor handgun
DESCRIPTION:Bring out your handguns or .22 rifles and enjoy an evening shoot. Location Oceola Clubhouse
URL:https://oceola.ca/event/indoor-handgun-5/2028-03-06/
LOCATION:11888 McGowan Rd A\, Lake Country\, BC V4V 1J2\, 11888 McGowan Rd A\, Lake Country \,BC\, BC\, V4V 1J2\, Canada
END:VEVENT
BEGIN:VEVENT
DTSTART;TZID=America/Vancouver:20280310T190000
DTEND;TZID=America/Vancouver:20280310T203000
DTSTAMP:20260425T055828
CREATED:20251126T165800Z
LAST-MODIFIED:20251126T185429Z
UID:10002804-1836327600-1836333000@oceola.ca
SUMMARY:Indoor handgun
DESCRIPTION:Bring out your handguns or .22 rifles and enjoy an evening shoot. Location Oceola Clubhouse
URL:https://oceola.ca/event/indoor-handgun-5/2028-03-10/
LOCATION:11888 McGowan Rd A\, Lake Country\, BC V4V 1J2\, 11888 McGowan Rd A\, Lake Country \,BC\, BC\, V4V 1J2\, Canada
END:VEVENT
BEGIN:VEVENT
DTSTART;TZID=America/Vancouver:20280313T190000
DTEND;TZID=America/Vancouver:20280313T203000
DTSTAMP:20260425T055828
CREATED:20251126T165800Z
LAST-MODIFIED:20251126T185429Z
UID:10003534-1836586800-1836592200@oceola.ca
SUMMARY:Indoor handgun
DESCRIPTION:Bring out your handguns or .22 rifles and enjoy an evening shoot. Location Oceola Clubhouse
URL:https://oceola.ca/event/indoor-handgun-5/2028-03-13/
LOCATION:11888 McGowan Rd A\, Lake Country\, BC V4V 1J2\, 11888 McGowan Rd A\, Lake Country \,BC\, BC\, V4V 1J2\, Canada
END:VEVENT
BEGIN:VEVENT
DTSTART;TZID=America/Vancouver:20280317T190000
DTEND;TZID=America/Vancouver:20280317T203000
DTSTAMP:20260425T055828
CREATED:20251126T165800Z
LAST-MODIFIED:20251126T185429Z
UID:10002806-1836932400-1836937800@oceola.ca
SUMMARY:Indoor handgun
DESCRIPTION:Bring out your handguns or .22 rifles and enjoy an evening shoot. Location Oceola Clubhouse
URL:https://oceola.ca/event/indoor-handgun-5/2028-03-17/
LOCATION:11888 McGowan Rd A\, Lake Country\, BC V4V 1J2\, 11888 McGowan Rd A\, Lake Country \,BC\, BC\, V4V 1J2\, Canada
END:VEVENT
END:VCALENDAR