BEGIN:VCALENDAR
VERSION:2.0
PRODID:-//Oceola Fish &amp; Game Club - ECPv6.15.18//NONSGML v1.0//EN
CALSCALE:GREGORIAN
METHOD:PUBLISH
X-WR-CALNAME:Oceola Fish &amp; Game Club
X-ORIGINAL-URL:https://oceola.ca
X-WR-CALDESC:Events for Oceola Fish &amp; Game Club
REFRESH-INTERVAL;VALUE=DURATION:PT1H
X-Robots-Tag:noindex
X-PUBLISHED-TTL:PT1H
BEGIN:VTIMEZONE
TZID:America/Vancouver
BEGIN:DAYLIGHT
TZOFFSETFROM:-0800
TZOFFSETTO:-0700
TZNAME:PDT
DTSTART:20270314T100000
END:DAYLIGHT
BEGIN:STANDARD
TZOFFSETFROM:-0700
TZOFFSETTO:-0800
TZNAME:PST
DTSTART:20271107T090000
END:STANDARD
BEGIN:DAYLIGHT
TZOFFSETFROM:-0800
TZOFFSETTO:-0700
TZNAME:PDT
DTSTART:20280312T100000
END:DAYLIGHT
BEGIN:STANDARD
TZOFFSETFROM:-0700
TZOFFSETTO:-0800
TZNAME:PST
DTSTART:20281105T090000
END:STANDARD
BEGIN:DAYLIGHT
TZOFFSETFROM:-0800
TZOFFSETTO:-0700
TZNAME:PDT
DTSTART:20290311T100000
END:DAYLIGHT
BEGIN:STANDARD
TZOFFSETFROM:-0700
TZOFFSETTO:-0800
TZNAME:PST
DTSTART:20291104T090000
END:STANDARD
END:VTIMEZONE
BEGIN:VEVENT
DTSTART;TZID=America/Vancouver:20280522T190000
DTEND;TZID=America/Vancouver:20280522T203000
DTSTAMP:20260425T120119
CREATED:20251126T165800Z
LAST-MODIFIED:20251126T185429Z
UID:10003544-1842634800-1842640200@oceola.ca
SUMMARY:Indoor handgun
DESCRIPTION:Bring out your handguns or .22 rifles and enjoy an evening shoot. Location Oceola Clubhouse
URL:https://oceola.ca/event/indoor-handgun-5/2028-05-22/
LOCATION:11888 McGowan Rd A\, Lake Country\, BC V4V 1J2\, 11888 McGowan Rd A\, Lake Country \,BC\, BC\, V4V 1J2\, Canada
END:VEVENT
BEGIN:VEVENT
DTSTART;TZID=America/Vancouver:20280526T190000
DTEND;TZID=America/Vancouver:20280526T203000
DTSTAMP:20260425T120119
CREATED:20251126T165800Z
LAST-MODIFIED:20251126T185429Z
UID:10002826-1842980400-1842985800@oceola.ca
SUMMARY:Indoor handgun
DESCRIPTION:Bring out your handguns or .22 rifles and enjoy an evening shoot. Location Oceola Clubhouse
URL:https://oceola.ca/event/indoor-handgun-5/2028-05-26/
LOCATION:11888 McGowan Rd A\, Lake Country\, BC V4V 1J2\, 11888 McGowan Rd A\, Lake Country \,BC\, BC\, V4V 1J2\, Canada
END:VEVENT
BEGIN:VEVENT
DTSTART;TZID=America/Vancouver:20280529T190000
DTEND;TZID=America/Vancouver:20280529T203000
DTSTAMP:20260425T120119
CREATED:20251126T165800Z
LAST-MODIFIED:20251126T185429Z
UID:10003545-1843239600-1843245000@oceola.ca
SUMMARY:Indoor handgun
DESCRIPTION:Bring out your handguns or .22 rifles and enjoy an evening shoot. Location Oceola Clubhouse
URL:https://oceola.ca/event/indoor-handgun-5/2028-05-29/
LOCATION:11888 McGowan Rd A\, Lake Country\, BC V4V 1J2\, 11888 McGowan Rd A\, Lake Country \,BC\, BC\, V4V 1J2\, Canada
END:VEVENT
BEGIN:VEVENT
DTSTART;TZID=America/Vancouver:20280602T190000
DTEND;TZID=America/Vancouver:20280602T203000
DTSTAMP:20260425T120119
CREATED:20251126T165800Z
LAST-MODIFIED:20251126T185429Z
UID:10002828-1843585200-1843590600@oceola.ca
SUMMARY:Indoor handgun
DESCRIPTION:Bring out your handguns or .22 rifles and enjoy an evening shoot. Location Oceola Clubhouse
URL:https://oceola.ca/event/indoor-handgun-5/2028-06-02/
LOCATION:11888 McGowan Rd A\, Lake Country\, BC V4V 1J2\, 11888 McGowan Rd A\, Lake Country \,BC\, BC\, V4V 1J2\, Canada
END:VEVENT
BEGIN:VEVENT
DTSTART;TZID=America/Vancouver:20280605T190000
DTEND;TZID=America/Vancouver:20280605T203000
DTSTAMP:20260425T120119
CREATED:20251126T165800Z
LAST-MODIFIED:20251126T185429Z
UID:10003546-1843844400-1843849800@oceola.ca
SUMMARY:Indoor handgun
DESCRIPTION:Bring out your handguns or .22 rifles and enjoy an evening shoot. Location Oceola Clubhouse
URL:https://oceola.ca/event/indoor-handgun-5/2028-06-05/
LOCATION:11888 McGowan Rd A\, Lake Country\, BC V4V 1J2\, 11888 McGowan Rd A\, Lake Country \,BC\, BC\, V4V 1J2\, Canada
END:VEVENT
BEGIN:VEVENT
DTSTART;TZID=America/Vancouver:20280609T190000
DTEND;TZID=America/Vancouver:20280609T203000
DTSTAMP:20260425T120119
CREATED:20251126T165800Z
LAST-MODIFIED:20251126T185429Z
UID:10002830-1844190000-1844195400@oceola.ca
SUMMARY:Indoor handgun
DESCRIPTION:Bring out your handguns or .22 rifles and enjoy an evening shoot. Location Oceola Clubhouse
URL:https://oceola.ca/event/indoor-handgun-5/2028-06-09/
LOCATION:11888 McGowan Rd A\, Lake Country\, BC V4V 1J2\, 11888 McGowan Rd A\, Lake Country \,BC\, BC\, V4V 1J2\, Canada
END:VEVENT
BEGIN:VEVENT
DTSTART;TZID=America/Vancouver:20280612T190000
DTEND;TZID=America/Vancouver:20280612T203000
DTSTAMP:20260425T120119
CREATED:20251126T165800Z
LAST-MODIFIED:20251126T185429Z
UID:10003547-1844449200-1844454600@oceola.ca
SUMMARY:Indoor handgun
DESCRIPTION:Bring out your handguns or .22 rifles and enjoy an evening shoot. Location Oceola Clubhouse
URL:https://oceola.ca/event/indoor-handgun-5/2028-06-12/
LOCATION:11888 McGowan Rd A\, Lake Country\, BC V4V 1J2\, 11888 McGowan Rd A\, Lake Country \,BC\, BC\, V4V 1J2\, Canada
END:VEVENT
BEGIN:VEVENT
DTSTART;TZID=America/Vancouver:20280616T190000
DTEND;TZID=America/Vancouver:20280616T203000
DTSTAMP:20260425T120119
CREATED:20251126T165800Z
LAST-MODIFIED:20251126T185429Z
UID:10002832-1844794800-1844800200@oceola.ca
SUMMARY:Indoor handgun
DESCRIPTION:Bring out your handguns or .22 rifles and enjoy an evening shoot. Location Oceola Clubhouse
URL:https://oceola.ca/event/indoor-handgun-5/2028-06-16/
LOCATION:11888 McGowan Rd A\, Lake Country\, BC V4V 1J2\, 11888 McGowan Rd A\, Lake Country \,BC\, BC\, V4V 1J2\, Canada
END:VEVENT
BEGIN:VEVENT
DTSTART;TZID=America/Vancouver:20280619T190000
DTEND;TZID=America/Vancouver:20280619T203000
DTSTAMP:20260425T120119
CREATED:20251126T165800Z
LAST-MODIFIED:20251126T185429Z
UID:10003548-1845054000-1845059400@oceola.ca
SUMMARY:Indoor handgun
DESCRIPTION:Bring out your handguns or .22 rifles and enjoy an evening shoot. Location Oceola Clubhouse
URL:https://oceola.ca/event/indoor-handgun-5/2028-06-19/
LOCATION:11888 McGowan Rd A\, Lake Country\, BC V4V 1J2\, 11888 McGowan Rd A\, Lake Country \,BC\, BC\, V4V 1J2\, Canada
END:VEVENT
BEGIN:VEVENT
DTSTART;TZID=America/Vancouver:20280623T190000
DTEND;TZID=America/Vancouver:20280623T203000
DTSTAMP:20260425T120119
CREATED:20251126T165800Z
LAST-MODIFIED:20251126T185429Z
UID:10002834-1845399600-1845405000@oceola.ca
SUMMARY:Indoor handgun
DESCRIPTION:Bring out your handguns or .22 rifles and enjoy an evening shoot. Location Oceola Clubhouse
URL:https://oceola.ca/event/indoor-handgun-5/2028-06-23/
LOCATION:11888 McGowan Rd A\, Lake Country\, BC V4V 1J2\, 11888 McGowan Rd A\, Lake Country \,BC\, BC\, V4V 1J2\, Canada
END:VEVENT
BEGIN:VEVENT
DTSTART;TZID=America/Vancouver:20280626T190000
DTEND;TZID=America/Vancouver:20280626T203000
DTSTAMP:20260425T120119
CREATED:20251126T165800Z
LAST-MODIFIED:20251126T185429Z
UID:10003549-1845658800-1845664200@oceola.ca
SUMMARY:Indoor handgun
DESCRIPTION:Bring out your handguns or .22 rifles and enjoy an evening shoot. Location Oceola Clubhouse
URL:https://oceola.ca/event/indoor-handgun-5/2028-06-26/
LOCATION:11888 McGowan Rd A\, Lake Country\, BC V4V 1J2\, 11888 McGowan Rd A\, Lake Country \,BC\, BC\, V4V 1J2\, Canada
END:VEVENT
BEGIN:VEVENT
DTSTART;TZID=America/Vancouver:20280630T190000
DTEND;TZID=America/Vancouver:20280630T203000
DTSTAMP:20260425T120119
CREATED:20251126T165800Z
LAST-MODIFIED:20251126T185429Z
UID:10002836-1846004400-1846009800@oceola.ca
SUMMARY:Indoor handgun
DESCRIPTION:Bring out your handguns or .22 rifles and enjoy an evening shoot. Location Oceola Clubhouse
URL:https://oceola.ca/event/indoor-handgun-5/2028-06-30/
LOCATION:11888 McGowan Rd A\, Lake Country\, BC V4V 1J2\, 11888 McGowan Rd A\, Lake Country \,BC\, BC\, V4V 1J2\, Canada
END:VEVENT
BEGIN:VEVENT
DTSTART;TZID=America/Vancouver:20280703T190000
DTEND;TZID=America/Vancouver:20280703T203000
DTSTAMP:20260425T120119
CREATED:20251126T165800Z
LAST-MODIFIED:20251126T185429Z
UID:10003550-1846263600-1846269000@oceola.ca
SUMMARY:Indoor handgun
DESCRIPTION:Bring out your handguns or .22 rifles and enjoy an evening shoot. Location Oceola Clubhouse
URL:https://oceola.ca/event/indoor-handgun-5/2028-07-03/
LOCATION:11888 McGowan Rd A\, Lake Country\, BC V4V 1J2\, 11888 McGowan Rd A\, Lake Country \,BC\, BC\, V4V 1J2\, Canada
END:VEVENT
BEGIN:VEVENT
DTSTART;TZID=America/Vancouver:20280707T190000
DTEND;TZID=America/Vancouver:20280707T203000
DTSTAMP:20260425T120119
CREATED:20251126T165800Z
LAST-MODIFIED:20251126T185429Z
UID:10002838-1846609200-1846614600@oceola.ca
SUMMARY:Indoor handgun
DESCRIPTION:Bring out your handguns or .22 rifles and enjoy an evening shoot. Location Oceola Clubhouse
URL:https://oceola.ca/event/indoor-handgun-5/2028-07-07/
LOCATION:11888 McGowan Rd A\, Lake Country\, BC V4V 1J2\, 11888 McGowan Rd A\, Lake Country \,BC\, BC\, V4V 1J2\, Canada
END:VEVENT
BEGIN:VEVENT
DTSTART;TZID=America/Vancouver:20280710T190000
DTEND;TZID=America/Vancouver:20280710T203000
DTSTAMP:20260425T120119
CREATED:20251126T165800Z
LAST-MODIFIED:20251126T185429Z
UID:10003551-1846868400-1846873800@oceola.ca
SUMMARY:Indoor handgun
DESCRIPTION:Bring out your handguns or .22 rifles and enjoy an evening shoot. Location Oceola Clubhouse
URL:https://oceola.ca/event/indoor-handgun-5/2028-07-10/
LOCATION:11888 McGowan Rd A\, Lake Country\, BC V4V 1J2\, 11888 McGowan Rd A\, Lake Country \,BC\, BC\, V4V 1J2\, Canada
END:VEVENT
BEGIN:VEVENT
DTSTART;TZID=America/Vancouver:20280714T190000
DTEND;TZID=America/Vancouver:20280714T203000
DTSTAMP:20260425T120119
CREATED:20251126T165800Z
LAST-MODIFIED:20251126T185429Z
UID:10002840-1847214000-1847219400@oceola.ca
SUMMARY:Indoor handgun
DESCRIPTION:Bring out your handguns or .22 rifles and enjoy an evening shoot. Location Oceola Clubhouse
URL:https://oceola.ca/event/indoor-handgun-5/2028-07-14/
LOCATION:11888 McGowan Rd A\, Lake Country\, BC V4V 1J2\, 11888 McGowan Rd A\, Lake Country \,BC\, BC\, V4V 1J2\, Canada
END:VEVENT
BEGIN:VEVENT
DTSTART;TZID=America/Vancouver:20280717T190000
DTEND;TZID=America/Vancouver:20280717T203000
DTSTAMP:20260425T120119
CREATED:20251126T165800Z
LAST-MODIFIED:20251126T185429Z
UID:10003552-1847473200-1847478600@oceola.ca
SUMMARY:Indoor handgun
DESCRIPTION:Bring out your handguns or .22 rifles and enjoy an evening shoot. Location Oceola Clubhouse
URL:https://oceola.ca/event/indoor-handgun-5/2028-07-17/
LOCATION:11888 McGowan Rd A\, Lake Country\, BC V4V 1J2\, 11888 McGowan Rd A\, Lake Country \,BC\, BC\, V4V 1J2\, Canada
END:VEVENT
BEGIN:VEVENT
DTSTART;TZID=America/Vancouver:20280721T190000
DTEND;TZID=America/Vancouver:20280721T203000
DTSTAMP:20260425T120119
CREATED:20251126T165800Z
LAST-MODIFIED:20251126T185429Z
UID:10002842-1847818800-1847824200@oceola.ca
SUMMARY:Indoor handgun
DESCRIPTION:Bring out your handguns or .22 rifles and enjoy an evening shoot. Location Oceola Clubhouse
URL:https://oceola.ca/event/indoor-handgun-5/2028-07-21/
LOCATION:11888 McGowan Rd A\, Lake Country\, BC V4V 1J2\, 11888 McGowan Rd A\, Lake Country \,BC\, BC\, V4V 1J2\, Canada
END:VEVENT
BEGIN:VEVENT
DTSTART;TZID=America/Vancouver:20280724T190000
DTEND;TZID=America/Vancouver:20280724T203000
DTSTAMP:20260425T120119
CREATED:20251126T165800Z
LAST-MODIFIED:20251126T185429Z
UID:10003553-1848078000-1848083400@oceola.ca
SUMMARY:Indoor handgun
DESCRIPTION:Bring out your handguns or .22 rifles and enjoy an evening shoot. Location Oceola Clubhouse
URL:https://oceola.ca/event/indoor-handgun-5/2028-07-24/
LOCATION:11888 McGowan Rd A\, Lake Country\, BC V4V 1J2\, 11888 McGowan Rd A\, Lake Country \,BC\, BC\, V4V 1J2\, Canada
END:VEVENT
BEGIN:VEVENT
DTSTART;TZID=America/Vancouver:20280728T190000
DTEND;TZID=America/Vancouver:20280728T203000
DTSTAMP:20260425T120119
CREATED:20251126T165800Z
LAST-MODIFIED:20251126T185429Z
UID:10002844-1848423600-1848429000@oceola.ca
SUMMARY:Indoor handgun
DESCRIPTION:Bring out your handguns or .22 rifles and enjoy an evening shoot. Location Oceola Clubhouse
URL:https://oceola.ca/event/indoor-handgun-5/2028-07-28/
LOCATION:11888 McGowan Rd A\, Lake Country\, BC V4V 1J2\, 11888 McGowan Rd A\, Lake Country \,BC\, BC\, V4V 1J2\, Canada
END:VEVENT
BEGIN:VEVENT
DTSTART;TZID=America/Vancouver:20280731T190000
DTEND;TZID=America/Vancouver:20280731T203000
DTSTAMP:20260425T120119
CREATED:20251126T165800Z
LAST-MODIFIED:20251126T185429Z
UID:10003554-1848682800-1848688200@oceola.ca
SUMMARY:Indoor handgun
DESCRIPTION:Bring out your handguns or .22 rifles and enjoy an evening shoot. Location Oceola Clubhouse
URL:https://oceola.ca/event/indoor-handgun-5/2028-07-31/
LOCATION:11888 McGowan Rd A\, Lake Country\, BC V4V 1J2\, 11888 McGowan Rd A\, Lake Country \,BC\, BC\, V4V 1J2\, Canada
END:VEVENT
BEGIN:VEVENT
DTSTART;TZID=America/Vancouver:20280804T190000
DTEND;TZID=America/Vancouver:20280804T203000
DTSTAMP:20260425T120119
CREATED:20251126T165800Z
LAST-MODIFIED:20251126T185429Z
UID:10002846-1849028400-1849033800@oceola.ca
SUMMARY:Indoor handgun
DESCRIPTION:Bring out your handguns or .22 rifles and enjoy an evening shoot. Location Oceola Clubhouse
URL:https://oceola.ca/event/indoor-handgun-5/2028-08-04/
LOCATION:11888 McGowan Rd A\, Lake Country\, BC V4V 1J2\, 11888 McGowan Rd A\, Lake Country \,BC\, BC\, V4V 1J2\, Canada
END:VEVENT
BEGIN:VEVENT
DTSTART;TZID=America/Vancouver:20280807T190000
DTEND;TZID=America/Vancouver:20280807T203000
DTSTAMP:20260425T120119
CREATED:20251126T165800Z
LAST-MODIFIED:20251126T185429Z
UID:10003555-1849287600-1849293000@oceola.ca
SUMMARY:Indoor handgun
DESCRIPTION:Bring out your handguns or .22 rifles and enjoy an evening shoot. Location Oceola Clubhouse
URL:https://oceola.ca/event/indoor-handgun-5/2028-08-07/
LOCATION:11888 McGowan Rd A\, Lake Country\, BC V4V 1J2\, 11888 McGowan Rd A\, Lake Country \,BC\, BC\, V4V 1J2\, Canada
END:VEVENT
BEGIN:VEVENT
DTSTART;TZID=America/Vancouver:20280811T190000
DTEND;TZID=America/Vancouver:20280811T203000
DTSTAMP:20260425T120119
CREATED:20251126T165800Z
LAST-MODIFIED:20251126T185429Z
UID:10002848-1849633200-1849638600@oceola.ca
SUMMARY:Indoor handgun
DESCRIPTION:Bring out your handguns or .22 rifles and enjoy an evening shoot. Location Oceola Clubhouse
URL:https://oceola.ca/event/indoor-handgun-5/2028-08-11/
LOCATION:11888 McGowan Rd A\, Lake Country\, BC V4V 1J2\, 11888 McGowan Rd A\, Lake Country \,BC\, BC\, V4V 1J2\, Canada
END:VEVENT
BEGIN:VEVENT
DTSTART;TZID=America/Vancouver:20280814T190000
DTEND;TZID=America/Vancouver:20280814T203000
DTSTAMP:20260425T120119
CREATED:20251126T165800Z
LAST-MODIFIED:20251126T185429Z
UID:10003556-1849892400-1849897800@oceola.ca
SUMMARY:Indoor handgun
DESCRIPTION:Bring out your handguns or .22 rifles and enjoy an evening shoot. Location Oceola Clubhouse
URL:https://oceola.ca/event/indoor-handgun-5/2028-08-14/
LOCATION:11888 McGowan Rd A\, Lake Country\, BC V4V 1J2\, 11888 McGowan Rd A\, Lake Country \,BC\, BC\, V4V 1J2\, Canada
END:VEVENT
BEGIN:VEVENT
DTSTART;TZID=America/Vancouver:20280818T190000
DTEND;TZID=America/Vancouver:20280818T203000
DTSTAMP:20260425T120119
CREATED:20251126T165800Z
LAST-MODIFIED:20251126T185429Z
UID:10002850-1850238000-1850243400@oceola.ca
SUMMARY:Indoor handgun
DESCRIPTION:Bring out your handguns or .22 rifles and enjoy an evening shoot. Location Oceola Clubhouse
URL:https://oceola.ca/event/indoor-handgun-5/2028-08-18/
LOCATION:11888 McGowan Rd A\, Lake Country\, BC V4V 1J2\, 11888 McGowan Rd A\, Lake Country \,BC\, BC\, V4V 1J2\, Canada
END:VEVENT
BEGIN:VEVENT
DTSTART;TZID=America/Vancouver:20280821T190000
DTEND;TZID=America/Vancouver:20280821T203000
DTSTAMP:20260425T120119
CREATED:20251126T165800Z
LAST-MODIFIED:20251126T185429Z
UID:10003557-1850497200-1850502600@oceola.ca
SUMMARY:Indoor handgun
DESCRIPTION:Bring out your handguns or .22 rifles and enjoy an evening shoot. Location Oceola Clubhouse
URL:https://oceola.ca/event/indoor-handgun-5/2028-08-21/
LOCATION:11888 McGowan Rd A\, Lake Country\, BC V4V 1J2\, 11888 McGowan Rd A\, Lake Country \,BC\, BC\, V4V 1J2\, Canada
END:VEVENT
BEGIN:VEVENT
DTSTART;TZID=America/Vancouver:20280825T190000
DTEND;TZID=America/Vancouver:20280825T203000
DTSTAMP:20260425T120119
CREATED:20251126T165800Z
LAST-MODIFIED:20251126T185429Z
UID:10002852-1850842800-1850848200@oceola.ca
SUMMARY:Indoor handgun
DESCRIPTION:Bring out your handguns or .22 rifles and enjoy an evening shoot. Location Oceola Clubhouse
URL:https://oceola.ca/event/indoor-handgun-5/2028-08-25/
LOCATION:11888 McGowan Rd A\, Lake Country\, BC V4V 1J2\, 11888 McGowan Rd A\, Lake Country \,BC\, BC\, V4V 1J2\, Canada
END:VEVENT
BEGIN:VEVENT
DTSTART;TZID=America/Vancouver:20280828T190000
DTEND;TZID=America/Vancouver:20280828T203000
DTSTAMP:20260425T120119
CREATED:20251126T165800Z
LAST-MODIFIED:20251126T185429Z
UID:10003558-1851102000-1851107400@oceola.ca
SUMMARY:Indoor handgun
DESCRIPTION:Bring out your handguns or .22 rifles and enjoy an evening shoot. Location Oceola Clubhouse
URL:https://oceola.ca/event/indoor-handgun-5/2028-08-28/
LOCATION:11888 McGowan Rd A\, Lake Country\, BC V4V 1J2\, 11888 McGowan Rd A\, Lake Country \,BC\, BC\, V4V 1J2\, Canada
END:VEVENT
BEGIN:VEVENT
DTSTART;TZID=America/Vancouver:20280901T190000
DTEND;TZID=America/Vancouver:20280901T203000
DTSTAMP:20260425T120119
CREATED:20251126T165800Z
LAST-MODIFIED:20251126T185429Z
UID:10002854-1851447600-1851453000@oceola.ca
SUMMARY:Indoor handgun
DESCRIPTION:Bring out your handguns or .22 rifles and enjoy an evening shoot. Location Oceola Clubhouse
URL:https://oceola.ca/event/indoor-handgun-5/2028-09-01/
LOCATION:11888 McGowan Rd A\, Lake Country\, BC V4V 1J2\, 11888 McGowan Rd A\, Lake Country \,BC\, BC\, V4V 1J2\, Canada
END:VEVENT
END:VCALENDAR