BEGIN:VCALENDAR
VERSION:2.0
PRODID:-//Oceola Fish &amp; Game Club - ECPv6.15.18//NONSGML v1.0//EN
CALSCALE:GREGORIAN
METHOD:PUBLISH
X-ORIGINAL-URL:https://oceola.ca
X-WR-CALDESC:Events for Oceola Fish &amp; Game Club
REFRESH-INTERVAL;VALUE=DURATION:PT1H
X-Robots-Tag:noindex
X-PUBLISHED-TTL:PT1H
BEGIN:VTIMEZONE
TZID:America/Vancouver
BEGIN:DAYLIGHT
TZOFFSETFROM:-0800
TZOFFSETTO:-0700
TZNAME:PDT
DTSTART:20270314T100000
END:DAYLIGHT
BEGIN:STANDARD
TZOFFSETFROM:-0700
TZOFFSETTO:-0800
TZNAME:PST
DTSTART:20271107T090000
END:STANDARD
BEGIN:DAYLIGHT
TZOFFSETFROM:-0800
TZOFFSETTO:-0700
TZNAME:PDT
DTSTART:20280312T100000
END:DAYLIGHT
BEGIN:STANDARD
TZOFFSETFROM:-0700
TZOFFSETTO:-0800
TZNAME:PST
DTSTART:20281105T090000
END:STANDARD
BEGIN:DAYLIGHT
TZOFFSETFROM:-0800
TZOFFSETTO:-0700
TZNAME:PDT
DTSTART:20290311T100000
END:DAYLIGHT
BEGIN:STANDARD
TZOFFSETFROM:-0700
TZOFFSETTO:-0800
TZNAME:PST
DTSTART:20291104T090000
END:STANDARD
BEGIN:DAYLIGHT
TZOFFSETFROM:-0800
TZOFFSETTO:-0700
TZNAME:PDT
DTSTART:20300310T100000
END:DAYLIGHT
BEGIN:STANDARD
TZOFFSETFROM:-0700
TZOFFSETTO:-0800
TZNAME:PST
DTSTART:20301103T090000
END:STANDARD
END:VTIMEZONE
BEGIN:VEVENT
DTSTART;TZID=America/Vancouver:20281218T190000
DTEND;TZID=America/Vancouver:20281218T203000
DTSTAMP:20260425T200721
CREATED:20251126T165800Z
LAST-MODIFIED:20251126T185429Z
UID:10003574-1860778800-1860784200@oceola.ca
SUMMARY:Indoor handgun
DESCRIPTION:Bring out your handguns or .22 rifles and enjoy an evening shoot. Location Oceola Clubhouse
URL:https://oceola.ca/event/indoor-handgun-5/2028-12-18/
LOCATION:11888 McGowan Rd A\, Lake Country\, BC V4V 1J2\, 11888 McGowan Rd A\, Lake Country \,BC\, BC\, V4V 1J2\, Canada
END:VEVENT
BEGIN:VEVENT
DTSTART;TZID=America/Vancouver:20281222T190000
DTEND;TZID=America/Vancouver:20281222T203000
DTSTAMP:20260425T200721
CREATED:20251126T165800Z
LAST-MODIFIED:20251126T185429Z
UID:10002886-1861124400-1861129800@oceola.ca
SUMMARY:Indoor handgun
DESCRIPTION:Bring out your handguns or .22 rifles and enjoy an evening shoot. Location Oceola Clubhouse
URL:https://oceola.ca/event/indoor-handgun-5/2028-12-22/
LOCATION:11888 McGowan Rd A\, Lake Country\, BC V4V 1J2\, 11888 McGowan Rd A\, Lake Country \,BC\, BC\, V4V 1J2\, Canada
END:VEVENT
BEGIN:VEVENT
DTSTART;TZID=America/Vancouver:20281225T190000
DTEND;TZID=America/Vancouver:20281225T203000
DTSTAMP:20260425T200721
CREATED:20251126T165800Z
LAST-MODIFIED:20251126T185429Z
UID:10003575-1861383600-1861389000@oceola.ca
SUMMARY:Indoor handgun
DESCRIPTION:Bring out your handguns or .22 rifles and enjoy an evening shoot. Location Oceola Clubhouse
URL:https://oceola.ca/event/indoor-handgun-5/2028-12-25/
LOCATION:11888 McGowan Rd A\, Lake Country\, BC V4V 1J2\, 11888 McGowan Rd A\, Lake Country \,BC\, BC\, V4V 1J2\, Canada
END:VEVENT
BEGIN:VEVENT
DTSTART;TZID=America/Vancouver:20281229T190000
DTEND;TZID=America/Vancouver:20281229T203000
DTSTAMP:20260425T200721
CREATED:20251126T165800Z
LAST-MODIFIED:20251126T185429Z
UID:10002888-1861729200-1861734600@oceola.ca
SUMMARY:Indoor handgun
DESCRIPTION:Bring out your handguns or .22 rifles and enjoy an evening shoot. Location Oceola Clubhouse
URL:https://oceola.ca/event/indoor-handgun-5/2028-12-29/
LOCATION:11888 McGowan Rd A\, Lake Country\, BC V4V 1J2\, 11888 McGowan Rd A\, Lake Country \,BC\, BC\, V4V 1J2\, Canada
END:VEVENT
BEGIN:VEVENT
DTSTART;TZID=America/Vancouver:20290101T190000
DTEND;TZID=America/Vancouver:20290101T203000
DTSTAMP:20260425T200721
CREATED:20251126T165800Z
LAST-MODIFIED:20251126T185429Z
UID:10003576-1861988400-1861993800@oceola.ca
SUMMARY:Indoor handgun
DESCRIPTION:Bring out your handguns or .22 rifles and enjoy an evening shoot. Location Oceola Clubhouse
URL:https://oceola.ca/event/indoor-handgun-5/2029-01-01/
LOCATION:11888 McGowan Rd A\, Lake Country\, BC V4V 1J2\, 11888 McGowan Rd A\, Lake Country \,BC\, BC\, V4V 1J2\, Canada
END:VEVENT
BEGIN:VEVENT
DTSTART;TZID=America/Vancouver:20290105T190000
DTEND;TZID=America/Vancouver:20290105T203000
DTSTAMP:20260425T200721
CREATED:20251126T165800Z
LAST-MODIFIED:20251126T185429Z
UID:10002890-1862334000-1862339400@oceola.ca
SUMMARY:Indoor handgun
DESCRIPTION:Bring out your handguns or .22 rifles and enjoy an evening shoot. Location Oceola Clubhouse
URL:https://oceola.ca/event/indoor-handgun-5/2029-01-05/
LOCATION:11888 McGowan Rd A\, Lake Country\, BC V4V 1J2\, 11888 McGowan Rd A\, Lake Country \,BC\, BC\, V4V 1J2\, Canada
END:VEVENT
BEGIN:VEVENT
DTSTART;TZID=America/Vancouver:20290108T190000
DTEND;TZID=America/Vancouver:20290108T203000
DTSTAMP:20260425T200721
CREATED:20251126T165800Z
LAST-MODIFIED:20251126T185429Z
UID:10003577-1862593200-1862598600@oceola.ca
SUMMARY:Indoor handgun
DESCRIPTION:Bring out your handguns or .22 rifles and enjoy an evening shoot. Location Oceola Clubhouse
URL:https://oceola.ca/event/indoor-handgun-5/2029-01-08/
LOCATION:11888 McGowan Rd A\, Lake Country\, BC V4V 1J2\, 11888 McGowan Rd A\, Lake Country \,BC\, BC\, V4V 1J2\, Canada
END:VEVENT
BEGIN:VEVENT
DTSTART;TZID=America/Vancouver:20290112T190000
DTEND;TZID=America/Vancouver:20290112T203000
DTSTAMP:20260425T200721
CREATED:20251126T165800Z
LAST-MODIFIED:20251126T185429Z
UID:10002892-1862938800-1862944200@oceola.ca
SUMMARY:Indoor handgun
DESCRIPTION:Bring out your handguns or .22 rifles and enjoy an evening shoot. Location Oceola Clubhouse
URL:https://oceola.ca/event/indoor-handgun-5/2029-01-12/
LOCATION:11888 McGowan Rd A\, Lake Country\, BC V4V 1J2\, 11888 McGowan Rd A\, Lake Country \,BC\, BC\, V4V 1J2\, Canada
END:VEVENT
BEGIN:VEVENT
DTSTART;TZID=America/Vancouver:20290115T190000
DTEND;TZID=America/Vancouver:20290115T203000
DTSTAMP:20260425T200721
CREATED:20251126T165800Z
LAST-MODIFIED:20251126T185429Z
UID:10003578-1863198000-1863203400@oceola.ca
SUMMARY:Indoor handgun
DESCRIPTION:Bring out your handguns or .22 rifles and enjoy an evening shoot. Location Oceola Clubhouse
URL:https://oceola.ca/event/indoor-handgun-5/2029-01-15/
LOCATION:11888 McGowan Rd A\, Lake Country\, BC V4V 1J2\, 11888 McGowan Rd A\, Lake Country \,BC\, BC\, V4V 1J2\, Canada
END:VEVENT
BEGIN:VEVENT
DTSTART;TZID=America/Vancouver:20290119T190000
DTEND;TZID=America/Vancouver:20290119T203000
DTSTAMP:20260425T200721
CREATED:20251126T165800Z
LAST-MODIFIED:20251126T185429Z
UID:10002894-1863543600-1863549000@oceola.ca
SUMMARY:Indoor handgun
DESCRIPTION:Bring out your handguns or .22 rifles and enjoy an evening shoot. Location Oceola Clubhouse
URL:https://oceola.ca/event/indoor-handgun-5/2029-01-19/
LOCATION:11888 McGowan Rd A\, Lake Country\, BC V4V 1J2\, 11888 McGowan Rd A\, Lake Country \,BC\, BC\, V4V 1J2\, Canada
END:VEVENT
BEGIN:VEVENT
DTSTART;TZID=America/Vancouver:20290122T190000
DTEND;TZID=America/Vancouver:20290122T203000
DTSTAMP:20260425T200721
CREATED:20251126T165800Z
LAST-MODIFIED:20251126T185429Z
UID:10003579-1863802800-1863808200@oceola.ca
SUMMARY:Indoor handgun
DESCRIPTION:Bring out your handguns or .22 rifles and enjoy an evening shoot. Location Oceola Clubhouse
URL:https://oceola.ca/event/indoor-handgun-5/2029-01-22/
LOCATION:11888 McGowan Rd A\, Lake Country\, BC V4V 1J2\, 11888 McGowan Rd A\, Lake Country \,BC\, BC\, V4V 1J2\, Canada
END:VEVENT
BEGIN:VEVENT
DTSTART;TZID=America/Vancouver:20290126T190000
DTEND;TZID=America/Vancouver:20290126T203000
DTSTAMP:20260425T200721
CREATED:20251126T165800Z
LAST-MODIFIED:20251126T185429Z
UID:10002896-1864148400-1864153800@oceola.ca
SUMMARY:Indoor handgun
DESCRIPTION:Bring out your handguns or .22 rifles and enjoy an evening shoot. Location Oceola Clubhouse
URL:https://oceola.ca/event/indoor-handgun-5/2029-01-26/
LOCATION:11888 McGowan Rd A\, Lake Country\, BC V4V 1J2\, 11888 McGowan Rd A\, Lake Country \,BC\, BC\, V4V 1J2\, Canada
END:VEVENT
BEGIN:VEVENT
DTSTART;TZID=America/Vancouver:20290129T190000
DTEND;TZID=America/Vancouver:20290129T203000
DTSTAMP:20260425T200721
CREATED:20251126T165800Z
LAST-MODIFIED:20251126T185429Z
UID:10003580-1864407600-1864413000@oceola.ca
SUMMARY:Indoor handgun
DESCRIPTION:Bring out your handguns or .22 rifles and enjoy an evening shoot. Location Oceola Clubhouse
URL:https://oceola.ca/event/indoor-handgun-5/2029-01-29/
LOCATION:11888 McGowan Rd A\, Lake Country\, BC V4V 1J2\, 11888 McGowan Rd A\, Lake Country \,BC\, BC\, V4V 1J2\, Canada
END:VEVENT
BEGIN:VEVENT
DTSTART;TZID=America/Vancouver:20290202T190000
DTEND;TZID=America/Vancouver:20290202T203000
DTSTAMP:20260425T200721
CREATED:20251126T165800Z
LAST-MODIFIED:20251126T185429Z
UID:10002898-1864753200-1864758600@oceola.ca
SUMMARY:Indoor handgun
DESCRIPTION:Bring out your handguns or .22 rifles and enjoy an evening shoot. Location Oceola Clubhouse
URL:https://oceola.ca/event/indoor-handgun-5/2029-02-02/
LOCATION:11888 McGowan Rd A\, Lake Country\, BC V4V 1J2\, 11888 McGowan Rd A\, Lake Country \,BC\, BC\, V4V 1J2\, Canada
END:VEVENT
BEGIN:VEVENT
DTSTART;TZID=America/Vancouver:20290205T190000
DTEND;TZID=America/Vancouver:20290205T203000
DTSTAMP:20260425T200721
CREATED:20251126T165800Z
LAST-MODIFIED:20251126T185429Z
UID:10003581-1865012400-1865017800@oceola.ca
SUMMARY:Indoor handgun
DESCRIPTION:Bring out your handguns or .22 rifles and enjoy an evening shoot. Location Oceola Clubhouse
URL:https://oceola.ca/event/indoor-handgun-5/2029-02-05/
LOCATION:11888 McGowan Rd A\, Lake Country\, BC V4V 1J2\, 11888 McGowan Rd A\, Lake Country \,BC\, BC\, V4V 1J2\, Canada
END:VEVENT
BEGIN:VEVENT
DTSTART;TZID=America/Vancouver:20290209T190000
DTEND;TZID=America/Vancouver:20290209T203000
DTSTAMP:20260425T200721
CREATED:20251126T165800Z
LAST-MODIFIED:20251126T185429Z
UID:10002900-1865358000-1865363400@oceola.ca
SUMMARY:Indoor handgun
DESCRIPTION:Bring out your handguns or .22 rifles and enjoy an evening shoot. Location Oceola Clubhouse
URL:https://oceola.ca/event/indoor-handgun-5/2029-02-09/
LOCATION:11888 McGowan Rd A\, Lake Country\, BC V4V 1J2\, 11888 McGowan Rd A\, Lake Country \,BC\, BC\, V4V 1J2\, Canada
END:VEVENT
BEGIN:VEVENT
DTSTART;TZID=America/Vancouver:20290212T190000
DTEND;TZID=America/Vancouver:20290212T203000
DTSTAMP:20260425T200721
CREATED:20251126T165800Z
LAST-MODIFIED:20251126T185429Z
UID:10003582-1865617200-1865622600@oceola.ca
SUMMARY:Indoor handgun
DESCRIPTION:Bring out your handguns or .22 rifles and enjoy an evening shoot. Location Oceola Clubhouse
URL:https://oceola.ca/event/indoor-handgun-5/2029-02-12/
LOCATION:11888 McGowan Rd A\, Lake Country\, BC V4V 1J2\, 11888 McGowan Rd A\, Lake Country \,BC\, BC\, V4V 1J2\, Canada
END:VEVENT
BEGIN:VEVENT
DTSTART;TZID=America/Vancouver:20290216T190000
DTEND;TZID=America/Vancouver:20290216T203000
DTSTAMP:20260425T200721
CREATED:20251126T165800Z
LAST-MODIFIED:20251126T185429Z
UID:10002902-1865962800-1865968200@oceola.ca
SUMMARY:Indoor handgun
DESCRIPTION:Bring out your handguns or .22 rifles and enjoy an evening shoot. Location Oceola Clubhouse
URL:https://oceola.ca/event/indoor-handgun-5/2029-02-16/
LOCATION:11888 McGowan Rd A\, Lake Country\, BC V4V 1J2\, 11888 McGowan Rd A\, Lake Country \,BC\, BC\, V4V 1J2\, Canada
END:VEVENT
BEGIN:VEVENT
DTSTART;TZID=America/Vancouver:20290219T190000
DTEND;TZID=America/Vancouver:20290219T203000
DTSTAMP:20260425T200721
CREATED:20251126T165800Z
LAST-MODIFIED:20251126T185429Z
UID:10003583-1866222000-1866227400@oceola.ca
SUMMARY:Indoor handgun
DESCRIPTION:Bring out your handguns or .22 rifles and enjoy an evening shoot. Location Oceola Clubhouse
URL:https://oceola.ca/event/indoor-handgun-5/2029-02-19/
LOCATION:11888 McGowan Rd A\, Lake Country\, BC V4V 1J2\, 11888 McGowan Rd A\, Lake Country \,BC\, BC\, V4V 1J2\, Canada
END:VEVENT
BEGIN:VEVENT
DTSTART;TZID=America/Vancouver:20290223T190000
DTEND;TZID=America/Vancouver:20290223T203000
DTSTAMP:20260425T200721
CREATED:20251126T165800Z
LAST-MODIFIED:20251126T185429Z
UID:10002904-1866567600-1866573000@oceola.ca
SUMMARY:Indoor handgun
DESCRIPTION:Bring out your handguns or .22 rifles and enjoy an evening shoot. Location Oceola Clubhouse
URL:https://oceola.ca/event/indoor-handgun-5/2029-02-23/
LOCATION:11888 McGowan Rd A\, Lake Country\, BC V4V 1J2\, 11888 McGowan Rd A\, Lake Country \,BC\, BC\, V4V 1J2\, Canada
END:VEVENT
BEGIN:VEVENT
DTSTART;TZID=America/Vancouver:20290226T190000
DTEND;TZID=America/Vancouver:20290226T203000
DTSTAMP:20260425T200721
CREATED:20251126T165800Z
LAST-MODIFIED:20251126T185429Z
UID:10003584-1866826800-1866832200@oceola.ca
SUMMARY:Indoor handgun
DESCRIPTION:Bring out your handguns or .22 rifles and enjoy an evening shoot. Location Oceola Clubhouse
URL:https://oceola.ca/event/indoor-handgun-5/2029-02-26/
LOCATION:11888 McGowan Rd A\, Lake Country\, BC V4V 1J2\, 11888 McGowan Rd A\, Lake Country \,BC\, BC\, V4V 1J2\, Canada
END:VEVENT
BEGIN:VEVENT
DTSTART;TZID=America/Vancouver:20290302T190000
DTEND;TZID=America/Vancouver:20290302T203000
DTSTAMP:20260425T200721
CREATED:20251126T165800Z
LAST-MODIFIED:20251126T185429Z
UID:10002906-1867172400-1867177800@oceola.ca
SUMMARY:Indoor handgun
DESCRIPTION:Bring out your handguns or .22 rifles and enjoy an evening shoot. Location Oceola Clubhouse
URL:https://oceola.ca/event/indoor-handgun-5/2029-03-02/
LOCATION:11888 McGowan Rd A\, Lake Country\, BC V4V 1J2\, 11888 McGowan Rd A\, Lake Country \,BC\, BC\, V4V 1J2\, Canada
END:VEVENT
BEGIN:VEVENT
DTSTART;TZID=America/Vancouver:20290305T190000
DTEND;TZID=America/Vancouver:20290305T203000
DTSTAMP:20260425T200721
CREATED:20251126T165800Z
LAST-MODIFIED:20251126T185429Z
UID:10003585-1867431600-1867437000@oceola.ca
SUMMARY:Indoor handgun
DESCRIPTION:Bring out your handguns or .22 rifles and enjoy an evening shoot. Location Oceola Clubhouse
URL:https://oceola.ca/event/indoor-handgun-5/2029-03-05/
LOCATION:11888 McGowan Rd A\, Lake Country\, BC V4V 1J2\, 11888 McGowan Rd A\, Lake Country \,BC\, BC\, V4V 1J2\, Canada
END:VEVENT
BEGIN:VEVENT
DTSTART;TZID=America/Vancouver:20290309T190000
DTEND;TZID=America/Vancouver:20290309T203000
DTSTAMP:20260425T200721
CREATED:20251126T165800Z
LAST-MODIFIED:20251126T185429Z
UID:10002908-1867777200-1867782600@oceola.ca
SUMMARY:Indoor handgun
DESCRIPTION:Bring out your handguns or .22 rifles and enjoy an evening shoot. Location Oceola Clubhouse
URL:https://oceola.ca/event/indoor-handgun-5/2029-03-09/
LOCATION:11888 McGowan Rd A\, Lake Country\, BC V4V 1J2\, 11888 McGowan Rd A\, Lake Country \,BC\, BC\, V4V 1J2\, Canada
END:VEVENT
BEGIN:VEVENT
DTSTART;TZID=America/Vancouver:20290312T190000
DTEND;TZID=America/Vancouver:20290312T203000
DTSTAMP:20260425T200721
CREATED:20251126T165800Z
LAST-MODIFIED:20251126T185429Z
UID:10003586-1868036400-1868041800@oceola.ca
SUMMARY:Indoor handgun
DESCRIPTION:Bring out your handguns or .22 rifles and enjoy an evening shoot. Location Oceola Clubhouse
URL:https://oceola.ca/event/indoor-handgun-5/2029-03-12/
LOCATION:11888 McGowan Rd A\, Lake Country\, BC V4V 1J2\, 11888 McGowan Rd A\, Lake Country \,BC\, BC\, V4V 1J2\, Canada
END:VEVENT
BEGIN:VEVENT
DTSTART;TZID=America/Vancouver:20290316T190000
DTEND;TZID=America/Vancouver:20290316T203000
DTSTAMP:20260425T200721
CREATED:20251126T165800Z
LAST-MODIFIED:20251126T185429Z
UID:10002910-1868382000-1868387400@oceola.ca
SUMMARY:Indoor handgun
DESCRIPTION:Bring out your handguns or .22 rifles and enjoy an evening shoot. Location Oceola Clubhouse
URL:https://oceola.ca/event/indoor-handgun-5/2029-03-16/
LOCATION:11888 McGowan Rd A\, Lake Country\, BC V4V 1J2\, 11888 McGowan Rd A\, Lake Country \,BC\, BC\, V4V 1J2\, Canada
END:VEVENT
BEGIN:VEVENT
DTSTART;TZID=America/Vancouver:20290319T190000
DTEND;TZID=America/Vancouver:20290319T203000
DTSTAMP:20260425T200721
CREATED:20251126T165800Z
LAST-MODIFIED:20251126T185429Z
UID:10003587-1868641200-1868646600@oceola.ca
SUMMARY:Indoor handgun
DESCRIPTION:Bring out your handguns or .22 rifles and enjoy an evening shoot. Location Oceola Clubhouse
URL:https://oceola.ca/event/indoor-handgun-5/2029-03-19/
LOCATION:11888 McGowan Rd A\, Lake Country\, BC V4V 1J2\, 11888 McGowan Rd A\, Lake Country \,BC\, BC\, V4V 1J2\, Canada
END:VEVENT
BEGIN:VEVENT
DTSTART;TZID=America/Vancouver:20290323T190000
DTEND;TZID=America/Vancouver:20290323T203000
DTSTAMP:20260425T200721
CREATED:20251126T165800Z
LAST-MODIFIED:20251126T185429Z
UID:10002912-1868986800-1868992200@oceola.ca
SUMMARY:Indoor handgun
DESCRIPTION:Bring out your handguns or .22 rifles and enjoy an evening shoot. Location Oceola Clubhouse
URL:https://oceola.ca/event/indoor-handgun-5/2029-03-23/
LOCATION:11888 McGowan Rd A\, Lake Country\, BC V4V 1J2\, 11888 McGowan Rd A\, Lake Country \,BC\, BC\, V4V 1J2\, Canada
END:VEVENT
BEGIN:VEVENT
DTSTART;TZID=America/Vancouver:20290326T190000
DTEND;TZID=America/Vancouver:20290326T203000
DTSTAMP:20260425T200721
CREATED:20251126T165800Z
LAST-MODIFIED:20251126T185429Z
UID:10003588-1869246000-1869251400@oceola.ca
SUMMARY:Indoor handgun
DESCRIPTION:Bring out your handguns or .22 rifles and enjoy an evening shoot. Location Oceola Clubhouse
URL:https://oceola.ca/event/indoor-handgun-5/2029-03-26/
LOCATION:11888 McGowan Rd A\, Lake Country\, BC V4V 1J2\, 11888 McGowan Rd A\, Lake Country \,BC\, BC\, V4V 1J2\, Canada
END:VEVENT
BEGIN:VEVENT
DTSTART;TZID=America/Vancouver:20290330T190000
DTEND;TZID=America/Vancouver:20290330T203000
DTSTAMP:20260425T200721
CREATED:20251126T165800Z
LAST-MODIFIED:20251126T185429Z
UID:10002914-1869591600-1869597000@oceola.ca
SUMMARY:Indoor handgun
DESCRIPTION:Bring out your handguns or .22 rifles and enjoy an evening shoot. Location Oceola Clubhouse
URL:https://oceola.ca/event/indoor-handgun-5/2029-03-30/
LOCATION:11888 McGowan Rd A\, Lake Country\, BC V4V 1J2\, 11888 McGowan Rd A\, Lake Country \,BC\, BC\, V4V 1J2\, Canada
END:VEVENT
END:VCALENDAR