BEGIN:VCALENDAR
VERSION:2.0
PRODID:-//Oceola Fish &amp; Game Club - ECPv6.15.18//NONSGML v1.0//EN
CALSCALE:GREGORIAN
METHOD:PUBLISH
X-ORIGINAL-URL:https://oceola.ca
X-WR-CALDESC:Events for Oceola Fish &amp; Game Club
REFRESH-INTERVAL;VALUE=DURATION:PT1H
X-Robots-Tag:noindex
X-PUBLISHED-TTL:PT1H
BEGIN:VTIMEZONE
TZID:America/Vancouver
BEGIN:DAYLIGHT
TZOFFSETFROM:-0800
TZOFFSETTO:-0700
TZNAME:PDT
DTSTART:20240310T100000
END:DAYLIGHT
BEGIN:STANDARD
TZOFFSETFROM:-0700
TZOFFSETTO:-0800
TZNAME:PST
DTSTART:20241103T090000
END:STANDARD
BEGIN:DAYLIGHT
TZOFFSETFROM:-0800
TZOFFSETTO:-0700
TZNAME:PDT
DTSTART:20250309T100000
END:DAYLIGHT
BEGIN:STANDARD
TZOFFSETFROM:-0700
TZOFFSETTO:-0800
TZNAME:PST
DTSTART:20251102T090000
END:STANDARD
BEGIN:DAYLIGHT
TZOFFSETFROM:-0800
TZOFFSETTO:-0700
TZNAME:PDT
DTSTART:20260308T100000
END:DAYLIGHT
BEGIN:STANDARD
TZOFFSETFROM:-0700
TZOFFSETTO:-0800
TZNAME:PST
DTSTART:20261101T090000
END:STANDARD
BEGIN:DAYLIGHT
TZOFFSETFROM:-0800
TZOFFSETTO:-0700
TZNAME:PDT
DTSTART:20270314T100000
END:DAYLIGHT
BEGIN:STANDARD
TZOFFSETFROM:-0700
TZOFFSETTO:-0800
TZNAME:PST
DTSTART:20271107T090000
END:STANDARD
END:VTIMEZONE
BEGIN:VEVENT
DTSTART;TZID=America/Vancouver:20260126T190000
DTEND;TZID=America/Vancouver:20260126T203000
DTSTAMP:20260424T132315
CREATED:20251126T165800Z
LAST-MODIFIED:20251126T185429Z
UID:10003423-1769454000-1769459400@oceola.ca
SUMMARY:Indoor handgun
DESCRIPTION:Bring out your handguns or .22 rifles and enjoy an evening shoot. Location Oceola Clubhouse
URL:https://oceola.ca/event/indoor-handgun-5/2026-01-26/
LOCATION:11888 McGowan Rd A\, Lake Country\, BC V4V 1J2\, 11888 McGowan Rd A\, Lake Country \,BC\, BC\, V4V 1J2\, Canada
END:VEVENT
BEGIN:VEVENT
DTSTART;TZID=America/Vancouver:20260123T190000
DTEND;TZID=America/Vancouver:20260123T203000
DTSTAMP:20260424T132315
CREATED:20251126T165800Z
LAST-MODIFIED:20251126T185429Z
UID:10002582-1769194800-1769200200@oceola.ca
SUMMARY:Indoor handgun
DESCRIPTION:Bring out your handguns or .22 rifles and enjoy an evening shoot. Location Oceola Clubhouse
URL:https://oceola.ca/event/indoor-handgun-5/2026-01-23/
LOCATION:11888 McGowan Rd A\, Lake Country\, BC V4V 1J2\, 11888 McGowan Rd A\, Lake Country \,BC\, BC\, V4V 1J2\, Canada
END:VEVENT
BEGIN:VEVENT
DTSTART;TZID=America/Vancouver:20260119T190000
DTEND;TZID=America/Vancouver:20260119T203000
DTSTAMP:20260424T132315
CREATED:20251126T165800Z
LAST-MODIFIED:20251126T185429Z
UID:10003422-1768849200-1768854600@oceola.ca
SUMMARY:Indoor handgun
DESCRIPTION:Bring out your handguns or .22 rifles and enjoy an evening shoot. Location Oceola Clubhouse
URL:https://oceola.ca/event/indoor-handgun-5/2026-01-19/
LOCATION:11888 McGowan Rd A\, Lake Country\, BC V4V 1J2\, 11888 McGowan Rd A\, Lake Country \,BC\, BC\, V4V 1J2\, Canada
END:VEVENT
BEGIN:VEVENT
DTSTART;TZID=America/Vancouver:20260116T190000
DTEND;TZID=America/Vancouver:20260116T203000
DTSTAMP:20260424T132315
CREATED:20251126T165800Z
LAST-MODIFIED:20251126T185429Z
UID:10002580-1768590000-1768595400@oceola.ca
SUMMARY:Indoor handgun
DESCRIPTION:Bring out your handguns or .22 rifles and enjoy an evening shoot. Location Oceola Clubhouse
URL:https://oceola.ca/event/indoor-handgun-5/2026-01-16/
LOCATION:11888 McGowan Rd A\, Lake Country\, BC V4V 1J2\, 11888 McGowan Rd A\, Lake Country \,BC\, BC\, V4V 1J2\, Canada
END:VEVENT
BEGIN:VEVENT
DTSTART;TZID=America/Vancouver:20260112T190000
DTEND;TZID=America/Vancouver:20260112T203000
DTSTAMP:20260424T132315
CREATED:20251126T165800Z
LAST-MODIFIED:20251126T185429Z
UID:10003421-1768244400-1768249800@oceola.ca
SUMMARY:Indoor handgun
DESCRIPTION:Bring out your handguns or .22 rifles and enjoy an evening shoot. Location Oceola Clubhouse
URL:https://oceola.ca/event/indoor-handgun-5/2026-01-12/
LOCATION:11888 McGowan Rd A\, Lake Country\, BC V4V 1J2\, 11888 McGowan Rd A\, Lake Country \,BC\, BC\, V4V 1J2\, Canada
END:VEVENT
BEGIN:VEVENT
DTSTART;TZID=America/Vancouver:20260109T190000
DTEND;TZID=America/Vancouver:20260109T203000
DTSTAMP:20260424T132315
CREATED:20251126T165800Z
LAST-MODIFIED:20251126T185429Z
UID:10002578-1767985200-1767990600@oceola.ca
SUMMARY:Indoor handgun
DESCRIPTION:Bring out your handguns or .22 rifles and enjoy an evening shoot. Location Oceola Clubhouse
URL:https://oceola.ca/event/indoor-handgun-5/2026-01-09/
LOCATION:11888 McGowan Rd A\, Lake Country\, BC V4V 1J2\, 11888 McGowan Rd A\, Lake Country \,BC\, BC\, V4V 1J2\, Canada
END:VEVENT
BEGIN:VEVENT
DTSTART;TZID=America/Vancouver:20260105T190000
DTEND;TZID=America/Vancouver:20260105T203000
DTSTAMP:20260424T132315
CREATED:20251126T165800Z
LAST-MODIFIED:20251126T185429Z
UID:10003420-1767639600-1767645000@oceola.ca
SUMMARY:Indoor handgun
DESCRIPTION:Bring out your handguns or .22 rifles and enjoy an evening shoot. Location Oceola Clubhouse
URL:https://oceola.ca/event/indoor-handgun-5/2026-01-05/
LOCATION:11888 McGowan Rd A\, Lake Country\, BC V4V 1J2\, 11888 McGowan Rd A\, Lake Country \,BC\, BC\, V4V 1J2\, Canada
END:VEVENT
BEGIN:VEVENT
DTSTART;TZID=America/Vancouver:20260102T190000
DTEND;TZID=America/Vancouver:20260102T203000
DTSTAMP:20260424T132315
CREATED:20251126T165800Z
LAST-MODIFIED:20251126T185429Z
UID:10003417-1767380400-1767385800@oceola.ca
SUMMARY:Indoor handgun
DESCRIPTION:Bring out your handguns or .22 rifles and enjoy an evening shoot. Location Oceola Clubhouse
URL:https://oceola.ca/event/indoor-handgun-5/2026-01-02/
LOCATION:11888 McGowan Rd A\, Lake Country\, BC V4V 1J2\, 11888 McGowan Rd A\, Lake Country \,BC\, BC\, V4V 1J2\, Canada
END:VEVENT
BEGIN:VEVENT
DTSTART;TZID=America/Vancouver:20251229T190000
DTEND;TZID=America/Vancouver:20251229T203000
DTSTAMP:20260424T132315
CREATED:20251126T165800Z
LAST-MODIFIED:20251126T185429Z
UID:10003419-1767034800-1767040200@oceola.ca
SUMMARY:Indoor handgun
DESCRIPTION:Bring out your handguns or .22 rifles and enjoy an evening shoot. Location Oceola Clubhouse
URL:https://oceola.ca/event/indoor-handgun-5/2025-12-29/
LOCATION:11888 McGowan Rd A\, Lake Country\, BC V4V 1J2\, 11888 McGowan Rd A\, Lake Country \,BC\, BC\, V4V 1J2\, Canada
END:VEVENT
BEGIN:VEVENT
DTSTART;TZID=America/Vancouver:20251222T190000
DTEND;TZID=America/Vancouver:20251222T203000
DTSTAMP:20260424T132315
CREATED:20251126T165800Z
LAST-MODIFIED:20251126T185429Z
UID:10003418-1766430000-1766435400@oceola.ca
SUMMARY:Indoor handgun
DESCRIPTION:Bring out your handguns or .22 rifles and enjoy an evening shoot. Location Oceola Clubhouse
URL:https://oceola.ca/event/indoor-handgun-5/2025-12-22/
LOCATION:11888 McGowan Rd A\, Lake Country\, BC V4V 1J2\, 11888 McGowan Rd A\, Lake Country \,BC\, BC\, V4V 1J2\, Canada
END:VEVENT
BEGIN:VEVENT
DTSTART;TZID=America/Vancouver:20251219T190000
DTEND;TZID=America/Vancouver:20251219T203000
DTSTAMP:20260424T132315
CREATED:20251126T165800Z
LAST-MODIFIED:20251126T185429Z
UID:10003683-1766170800-1766176200@oceola.ca
SUMMARY:Indoor handgun
DESCRIPTION:Bring out your handguns or .22 rifles and enjoy an evening shoot. Location Oceola Clubhouse
URL:https://oceola.ca/event/indoor-handgun-5/2025-12-19/
LOCATION:11888 McGowan Rd A\, Lake Country\, BC V4V 1J2\, 11888 McGowan Rd A\, Lake Country \,BC\, BC\, V4V 1J2\, Canada
END:VEVENT
BEGIN:VEVENT
DTSTART;TZID=America/Vancouver:20251215T190000
DTEND;TZID=America/Vancouver:20251215T203000
DTSTAMP:20260424T132315
CREATED:20251126T165800Z
LAST-MODIFIED:20251126T185429Z
UID:10003682-1765825200-1765830600@oceola.ca
SUMMARY:Indoor handgun
DESCRIPTION:Bring out your handguns or .22 rifles and enjoy an evening shoot. Location Oceola Clubhouse
URL:https://oceola.ca/event/indoor-handgun-5/2025-12-15/
LOCATION:11888 McGowan Rd A\, Lake Country\, BC V4V 1J2\, 11888 McGowan Rd A\, Lake Country \,BC\, BC\, V4V 1J2\, Canada
END:VEVENT
BEGIN:VEVENT
DTSTART;TZID=America/Vancouver:20251212T190000
DTEND;TZID=America/Vancouver:20251212T203000
DTSTAMP:20260424T132315
CREATED:20251126T165800Z
LAST-MODIFIED:20251126T185429Z
UID:10003681-1765566000-1765571400@oceola.ca
SUMMARY:Indoor handgun
DESCRIPTION:Bring out your handguns or .22 rifles and enjoy an evening shoot. Location Oceola Clubhouse
URL:https://oceola.ca/event/indoor-handgun-5/2025-12-12/
LOCATION:11888 McGowan Rd A\, Lake Country\, BC V4V 1J2\, 11888 McGowan Rd A\, Lake Country \,BC\, BC\, V4V 1J2\, Canada
END:VEVENT
BEGIN:VEVENT
DTSTART;TZID=America/Vancouver:20251208T190000
DTEND;TZID=America/Vancouver:20251208T203000
DTSTAMP:20260424T132315
CREATED:20251126T165800Z
LAST-MODIFIED:20251126T185429Z
UID:10003680-1765220400-1765225800@oceola.ca
SUMMARY:Indoor handgun
DESCRIPTION:Bring out your handguns or .22 rifles and enjoy an evening shoot. Location Oceola Clubhouse
URL:https://oceola.ca/event/indoor-handgun-5/2025-12-08/
LOCATION:11888 McGowan Rd A\, Lake Country\, BC V4V 1J2\, 11888 McGowan Rd A\, Lake Country \,BC\, BC\, V4V 1J2\, Canada
END:VEVENT
BEGIN:VEVENT
DTSTART;TZID=America/Vancouver:20251207T073000
DTEND;TZID=America/Vancouver:20251207T080000
DTSTAMP:20260424T132315
CREATED:20251126T164407Z
LAST-MODIFIED:20251126T182556Z
UID:10002979-1765092600-1765094400@oceola.ca
SUMMARY:2025 Christmas Potluck
DESCRIPTION:Come on out and enjoy our annual Potluck dinner at the clubhouse.  We request that you bring a dish for the meal.  We encourage a wild game recipe\, but if you are in short supply any addition such as an entre or salad is fine. Traditionally\, we supply a turkey. \n\n\n\n Presale tickets for our 2026 Fundraiser Banquet will be sold before dinner at 4:30 in the Board room at the club.  Last year our Banquet sold out so we recommmend getting your tickets early.
URL:https://oceola.ca/event/2025-christmas-potluck/
LOCATION:11888 McGowan Rd A\, Lake Country\, BC V4V 1J2\, 11888 McGowan Rd A\, Lake Country \,BC\, BC\, V4V 1J2\, Canada
END:VEVENT
BEGIN:VEVENT
DTSTART;TZID=America/Vancouver:20251205T190000
DTEND;TZID=America/Vancouver:20251205T203000
DTSTAMP:20260424T132315
CREATED:20251126T165800Z
LAST-MODIFIED:20251126T185429Z
UID:10003679-1764961200-1764966600@oceola.ca
SUMMARY:Indoor handgun
DESCRIPTION:Bring out your handguns or .22 rifles and enjoy an evening shoot. Location Oceola Clubhouse
URL:https://oceola.ca/event/indoor-handgun-5/2025-12-05/
LOCATION:11888 McGowan Rd A\, Lake Country\, BC V4V 1J2\, 11888 McGowan Rd A\, Lake Country \,BC\, BC\, V4V 1J2\, Canada
END:VEVENT
BEGIN:VEVENT
DTSTART;TZID=America/Vancouver:20251201T190000
DTEND;TZID=America/Vancouver:20251201T203000
DTSTAMP:20260424T132315
CREATED:20251126T165800Z
LAST-MODIFIED:20251126T185429Z
UID:10003678-1764615600-1764621000@oceola.ca
SUMMARY:Indoor handgun
DESCRIPTION:Bring out your handguns or .22 rifles and enjoy an evening shoot. Location Oceola Clubhouse
URL:https://oceola.ca/event/indoor-handgun-5/2025-12-01/
LOCATION:11888 McGowan Rd A\, Lake Country\, BC V4V 1J2\, 11888 McGowan Rd A\, Lake Country \,BC\, BC\, V4V 1J2\, Canada
END:VEVENT
BEGIN:VEVENT
DTSTART;TZID=America/Vancouver:20251128T190000
DTEND;TZID=America/Vancouver:20251128T203000
DTSTAMP:20260424T132315
CREATED:20251126T165800Z
LAST-MODIFIED:20251126T185429Z
UID:10003677-1764356400-1764361800@oceola.ca
SUMMARY:Indoor handgun
DESCRIPTION:Bring out your handguns or .22 rifles and enjoy an evening shoot. Location Oceola Clubhouse
URL:https://oceola.ca/event/indoor-handgun-5/2025-11-28/
LOCATION:11888 McGowan Rd A\, Lake Country\, BC V4V 1J2\, 11888 McGowan Rd A\, Lake Country \,BC\, BC\, V4V 1J2\, Canada
END:VEVENT
BEGIN:VEVENT
DTSTART;TZID=America/Vancouver:20251124T190000
DTEND;TZID=America/Vancouver:20251124T203000
DTSTAMP:20260424T132315
CREATED:20251126T165800Z
LAST-MODIFIED:20251126T185429Z
UID:10003676-1764010800-1764016200@oceola.ca
SUMMARY:Indoor handgun
DESCRIPTION:Bring out your handguns or .22 rifles and enjoy an evening shoot. Location Oceola Clubhouse
URL:https://oceola.ca/event/indoor-handgun-5/2025-11-24/
LOCATION:11888 McGowan Rd A\, Lake Country\, BC V4V 1J2\, 11888 McGowan Rd A\, Lake Country \,BC\, BC\, V4V 1J2\, Canada
END:VEVENT
END:VCALENDAR