BEGIN:VCALENDAR
VERSION:2.0
PRODID:-//Oceola Fish &amp; Game Club - ECPv6.15.18//NONSGML v1.0//EN
CALSCALE:GREGORIAN
METHOD:PUBLISH
X-WR-CALNAME:Oceola Fish &amp; Game Club
X-ORIGINAL-URL:https://oceola.ca
X-WR-CALDESC:Events for Oceola Fish &amp; Game Club
REFRESH-INTERVAL;VALUE=DURATION:PT1H
X-Robots-Tag:noindex
X-PUBLISHED-TTL:PT1H
BEGIN:VTIMEZONE
TZID:America/Vancouver
BEGIN:DAYLIGHT
TZOFFSETFROM:-0800
TZOFFSETTO:-0700
TZNAME:PDT
DTSTART:20260308T100000
END:DAYLIGHT
BEGIN:STANDARD
TZOFFSETFROM:-0700
TZOFFSETTO:-0800
TZNAME:PST
DTSTART:20261101T090000
END:STANDARD
BEGIN:DAYLIGHT
TZOFFSETFROM:-0800
TZOFFSETTO:-0700
TZNAME:PDT
DTSTART:20270314T100000
END:DAYLIGHT
BEGIN:STANDARD
TZOFFSETFROM:-0700
TZOFFSETTO:-0800
TZNAME:PST
DTSTART:20271107T090000
END:STANDARD
BEGIN:DAYLIGHT
TZOFFSETFROM:-0800
TZOFFSETTO:-0700
TZNAME:PDT
DTSTART:20280312T100000
END:DAYLIGHT
BEGIN:STANDARD
TZOFFSETFROM:-0700
TZOFFSETTO:-0800
TZNAME:PST
DTSTART:20281105T090000
END:STANDARD
END:VTIMEZONE
BEGIN:VEVENT
DTSTART;TZID=America/Vancouver:20270212T190000
DTEND;TZID=America/Vancouver:20270212T203000
DTSTAMP:20260424T180654
CREATED:20251126T165800Z
LAST-MODIFIED:20251126T185429Z
UID:10002692-1802458800-1802464200@oceola.ca
SUMMARY:Indoor handgun
DESCRIPTION:Bring out your handguns or .22 rifles and enjoy an evening shoot. Location Oceola Clubhouse
URL:https://oceola.ca/event/indoor-handgun-5/2027-02-12/
LOCATION:11888 McGowan Rd A\, Lake Country\, BC V4V 1J2\, 11888 McGowan Rd A\, Lake Country \,BC\, BC\, V4V 1J2\, Canada
END:VEVENT
BEGIN:VEVENT
DTSTART;TZID=America/Vancouver:20270215T190000
DTEND;TZID=America/Vancouver:20270215T203000
DTSTAMP:20260424T180654
CREATED:20251126T165800Z
LAST-MODIFIED:20251126T185429Z
UID:10003478-1802718000-1802723400@oceola.ca
SUMMARY:Indoor handgun
DESCRIPTION:Bring out your handguns or .22 rifles and enjoy an evening shoot. Location Oceola Clubhouse
URL:https://oceola.ca/event/indoor-handgun-5/2027-02-15/
LOCATION:11888 McGowan Rd A\, Lake Country\, BC V4V 1J2\, 11888 McGowan Rd A\, Lake Country \,BC\, BC\, V4V 1J2\, Canada
END:VEVENT
BEGIN:VEVENT
DTSTART;TZID=America/Vancouver:20270219T190000
DTEND;TZID=America/Vancouver:20270219T203000
DTSTAMP:20260424T180654
CREATED:20251126T165800Z
LAST-MODIFIED:20251126T185429Z
UID:10002694-1803063600-1803069000@oceola.ca
SUMMARY:Indoor handgun
DESCRIPTION:Bring out your handguns or .22 rifles and enjoy an evening shoot. Location Oceola Clubhouse
URL:https://oceola.ca/event/indoor-handgun-5/2027-02-19/
LOCATION:11888 McGowan Rd A\, Lake Country\, BC V4V 1J2\, 11888 McGowan Rd A\, Lake Country \,BC\, BC\, V4V 1J2\, Canada
END:VEVENT
BEGIN:VEVENT
DTSTART;TZID=America/Vancouver:20270222T190000
DTEND;TZID=America/Vancouver:20270222T203000
DTSTAMP:20260424T180654
CREATED:20251126T165800Z
LAST-MODIFIED:20251126T185429Z
UID:10003479-1803322800-1803328200@oceola.ca
SUMMARY:Indoor handgun
DESCRIPTION:Bring out your handguns or .22 rifles and enjoy an evening shoot. Location Oceola Clubhouse
URL:https://oceola.ca/event/indoor-handgun-5/2027-02-22/
LOCATION:11888 McGowan Rd A\, Lake Country\, BC V4V 1J2\, 11888 McGowan Rd A\, Lake Country \,BC\, BC\, V4V 1J2\, Canada
END:VEVENT
BEGIN:VEVENT
DTSTART;TZID=America/Vancouver:20270226T190000
DTEND;TZID=America/Vancouver:20270226T203000
DTSTAMP:20260424T180654
CREATED:20251126T165800Z
LAST-MODIFIED:20251126T185429Z
UID:10002696-1803668400-1803673800@oceola.ca
SUMMARY:Indoor handgun
DESCRIPTION:Bring out your handguns or .22 rifles and enjoy an evening shoot. Location Oceola Clubhouse
URL:https://oceola.ca/event/indoor-handgun-5/2027-02-26/
LOCATION:11888 McGowan Rd A\, Lake Country\, BC V4V 1J2\, 11888 McGowan Rd A\, Lake Country \,BC\, BC\, V4V 1J2\, Canada
END:VEVENT
BEGIN:VEVENT
DTSTART;TZID=America/Vancouver:20270301T190000
DTEND;TZID=America/Vancouver:20270301T203000
DTSTAMP:20260424T180654
CREATED:20251126T165800Z
LAST-MODIFIED:20251126T185429Z
UID:10003480-1803927600-1803933000@oceola.ca
SUMMARY:Indoor handgun
DESCRIPTION:Bring out your handguns or .22 rifles and enjoy an evening shoot. Location Oceola Clubhouse
URL:https://oceola.ca/event/indoor-handgun-5/2027-03-01/
LOCATION:11888 McGowan Rd A\, Lake Country\, BC V4V 1J2\, 11888 McGowan Rd A\, Lake Country \,BC\, BC\, V4V 1J2\, Canada
END:VEVENT
BEGIN:VEVENT
DTSTART;TZID=America/Vancouver:20270305T190000
DTEND;TZID=America/Vancouver:20270305T203000
DTSTAMP:20260424T180654
CREATED:20251126T165800Z
LAST-MODIFIED:20251126T185429Z
UID:10002698-1804273200-1804278600@oceola.ca
SUMMARY:Indoor handgun
DESCRIPTION:Bring out your handguns or .22 rifles and enjoy an evening shoot. Location Oceola Clubhouse
URL:https://oceola.ca/event/indoor-handgun-5/2027-03-05/
LOCATION:11888 McGowan Rd A\, Lake Country\, BC V4V 1J2\, 11888 McGowan Rd A\, Lake Country \,BC\, BC\, V4V 1J2\, Canada
END:VEVENT
BEGIN:VEVENT
DTSTART;TZID=America/Vancouver:20270308T190000
DTEND;TZID=America/Vancouver:20270308T203000
DTSTAMP:20260424T180654
CREATED:20251126T165800Z
LAST-MODIFIED:20251126T185429Z
UID:10003481-1804532400-1804537800@oceola.ca
SUMMARY:Indoor handgun
DESCRIPTION:Bring out your handguns or .22 rifles and enjoy an evening shoot. Location Oceola Clubhouse
URL:https://oceola.ca/event/indoor-handgun-5/2027-03-08/
LOCATION:11888 McGowan Rd A\, Lake Country\, BC V4V 1J2\, 11888 McGowan Rd A\, Lake Country \,BC\, BC\, V4V 1J2\, Canada
END:VEVENT
BEGIN:VEVENT
DTSTART;TZID=America/Vancouver:20270312T190000
DTEND;TZID=America/Vancouver:20270312T203000
DTSTAMP:20260424T180654
CREATED:20251126T165800Z
LAST-MODIFIED:20251126T185429Z
UID:10002700-1804878000-1804883400@oceola.ca
SUMMARY:Indoor handgun
DESCRIPTION:Bring out your handguns or .22 rifles and enjoy an evening shoot. Location Oceola Clubhouse
URL:https://oceola.ca/event/indoor-handgun-5/2027-03-12/
LOCATION:11888 McGowan Rd A\, Lake Country\, BC V4V 1J2\, 11888 McGowan Rd A\, Lake Country \,BC\, BC\, V4V 1J2\, Canada
END:VEVENT
BEGIN:VEVENT
DTSTART;TZID=America/Vancouver:20270315T190000
DTEND;TZID=America/Vancouver:20270315T203000
DTSTAMP:20260424T180654
CREATED:20251126T165800Z
LAST-MODIFIED:20251126T185429Z
UID:10003482-1805137200-1805142600@oceola.ca
SUMMARY:Indoor handgun
DESCRIPTION:Bring out your handguns or .22 rifles and enjoy an evening shoot. Location Oceola Clubhouse
URL:https://oceola.ca/event/indoor-handgun-5/2027-03-15/
LOCATION:11888 McGowan Rd A\, Lake Country\, BC V4V 1J2\, 11888 McGowan Rd A\, Lake Country \,BC\, BC\, V4V 1J2\, Canada
END:VEVENT
BEGIN:VEVENT
DTSTART;TZID=America/Vancouver:20270319T190000
DTEND;TZID=America/Vancouver:20270319T203000
DTSTAMP:20260424T180654
CREATED:20251126T165800Z
LAST-MODIFIED:20251126T185429Z
UID:10002702-1805482800-1805488200@oceola.ca
SUMMARY:Indoor handgun
DESCRIPTION:Bring out your handguns or .22 rifles and enjoy an evening shoot. Location Oceola Clubhouse
URL:https://oceola.ca/event/indoor-handgun-5/2027-03-19/
LOCATION:11888 McGowan Rd A\, Lake Country\, BC V4V 1J2\, 11888 McGowan Rd A\, Lake Country \,BC\, BC\, V4V 1J2\, Canada
END:VEVENT
BEGIN:VEVENT
DTSTART;TZID=America/Vancouver:20270322T190000
DTEND;TZID=America/Vancouver:20270322T203000
DTSTAMP:20260424T180654
CREATED:20251126T165800Z
LAST-MODIFIED:20251126T185429Z
UID:10003483-1805742000-1805747400@oceola.ca
SUMMARY:Indoor handgun
DESCRIPTION:Bring out your handguns or .22 rifles and enjoy an evening shoot. Location Oceola Clubhouse
URL:https://oceola.ca/event/indoor-handgun-5/2027-03-22/
LOCATION:11888 McGowan Rd A\, Lake Country\, BC V4V 1J2\, 11888 McGowan Rd A\, Lake Country \,BC\, BC\, V4V 1J2\, Canada
END:VEVENT
BEGIN:VEVENT
DTSTART;TZID=America/Vancouver:20270326T190000
DTEND;TZID=America/Vancouver:20270326T203000
DTSTAMP:20260424T180654
CREATED:20251126T165800Z
LAST-MODIFIED:20251126T185429Z
UID:10002704-1806087600-1806093000@oceola.ca
SUMMARY:Indoor handgun
DESCRIPTION:Bring out your handguns or .22 rifles and enjoy an evening shoot. Location Oceola Clubhouse
URL:https://oceola.ca/event/indoor-handgun-5/2027-03-26/
LOCATION:11888 McGowan Rd A\, Lake Country\, BC V4V 1J2\, 11888 McGowan Rd A\, Lake Country \,BC\, BC\, V4V 1J2\, Canada
END:VEVENT
BEGIN:VEVENT
DTSTART;TZID=America/Vancouver:20270329T190000
DTEND;TZID=America/Vancouver:20270329T203000
DTSTAMP:20260424T180654
CREATED:20251126T165800Z
LAST-MODIFIED:20251126T185429Z
UID:10003484-1806346800-1806352200@oceola.ca
SUMMARY:Indoor handgun
DESCRIPTION:Bring out your handguns or .22 rifles and enjoy an evening shoot. Location Oceola Clubhouse
URL:https://oceola.ca/event/indoor-handgun-5/2027-03-29/
LOCATION:11888 McGowan Rd A\, Lake Country\, BC V4V 1J2\, 11888 McGowan Rd A\, Lake Country \,BC\, BC\, V4V 1J2\, Canada
END:VEVENT
BEGIN:VEVENT
DTSTART;TZID=America/Vancouver:20270402T190000
DTEND;TZID=America/Vancouver:20270402T203000
DTSTAMP:20260424T180654
CREATED:20251126T165800Z
LAST-MODIFIED:20251126T185429Z
UID:10002706-1806692400-1806697800@oceola.ca
SUMMARY:Indoor handgun
DESCRIPTION:Bring out your handguns or .22 rifles and enjoy an evening shoot. Location Oceola Clubhouse
URL:https://oceola.ca/event/indoor-handgun-5/2027-04-02/
LOCATION:11888 McGowan Rd A\, Lake Country\, BC V4V 1J2\, 11888 McGowan Rd A\, Lake Country \,BC\, BC\, V4V 1J2\, Canada
END:VEVENT
BEGIN:VEVENT
DTSTART;TZID=America/Vancouver:20270405T190000
DTEND;TZID=America/Vancouver:20270405T203000
DTSTAMP:20260424T180654
CREATED:20251126T165800Z
LAST-MODIFIED:20251126T185429Z
UID:10003485-1806951600-1806957000@oceola.ca
SUMMARY:Indoor handgun
DESCRIPTION:Bring out your handguns or .22 rifles and enjoy an evening shoot. Location Oceola Clubhouse
URL:https://oceola.ca/event/indoor-handgun-5/2027-04-05/
LOCATION:11888 McGowan Rd A\, Lake Country\, BC V4V 1J2\, 11888 McGowan Rd A\, Lake Country \,BC\, BC\, V4V 1J2\, Canada
END:VEVENT
BEGIN:VEVENT
DTSTART;TZID=America/Vancouver:20270409T190000
DTEND;TZID=America/Vancouver:20270409T203000
DTSTAMP:20260424T180654
CREATED:20251126T165800Z
LAST-MODIFIED:20251126T185429Z
UID:10002708-1807297200-1807302600@oceola.ca
SUMMARY:Indoor handgun
DESCRIPTION:Bring out your handguns or .22 rifles and enjoy an evening shoot. Location Oceola Clubhouse
URL:https://oceola.ca/event/indoor-handgun-5/2027-04-09/
LOCATION:11888 McGowan Rd A\, Lake Country\, BC V4V 1J2\, 11888 McGowan Rd A\, Lake Country \,BC\, BC\, V4V 1J2\, Canada
END:VEVENT
BEGIN:VEVENT
DTSTART;TZID=America/Vancouver:20270412T190000
DTEND;TZID=America/Vancouver:20270412T203000
DTSTAMP:20260424T180654
CREATED:20251126T165800Z
LAST-MODIFIED:20251126T185429Z
UID:10003486-1807556400-1807561800@oceola.ca
SUMMARY:Indoor handgun
DESCRIPTION:Bring out your handguns or .22 rifles and enjoy an evening shoot. Location Oceola Clubhouse
URL:https://oceola.ca/event/indoor-handgun-5/2027-04-12/
LOCATION:11888 McGowan Rd A\, Lake Country\, BC V4V 1J2\, 11888 McGowan Rd A\, Lake Country \,BC\, BC\, V4V 1J2\, Canada
END:VEVENT
BEGIN:VEVENT
DTSTART;TZID=America/Vancouver:20270416T190000
DTEND;TZID=America/Vancouver:20270416T203000
DTSTAMP:20260424T180654
CREATED:20251126T165800Z
LAST-MODIFIED:20251126T185429Z
UID:10002710-1807902000-1807907400@oceola.ca
SUMMARY:Indoor handgun
DESCRIPTION:Bring out your handguns or .22 rifles and enjoy an evening shoot. Location Oceola Clubhouse
URL:https://oceola.ca/event/indoor-handgun-5/2027-04-16/
LOCATION:11888 McGowan Rd A\, Lake Country\, BC V4V 1J2\, 11888 McGowan Rd A\, Lake Country \,BC\, BC\, V4V 1J2\, Canada
END:VEVENT
BEGIN:VEVENT
DTSTART;TZID=America/Vancouver:20270419T190000
DTEND;TZID=America/Vancouver:20270419T203000
DTSTAMP:20260424T180654
CREATED:20251126T165800Z
LAST-MODIFIED:20251126T185429Z
UID:10003487-1808161200-1808166600@oceola.ca
SUMMARY:Indoor handgun
DESCRIPTION:Bring out your handguns or .22 rifles and enjoy an evening shoot. Location Oceola Clubhouse
URL:https://oceola.ca/event/indoor-handgun-5/2027-04-19/
LOCATION:11888 McGowan Rd A\, Lake Country\, BC V4V 1J2\, 11888 McGowan Rd A\, Lake Country \,BC\, BC\, V4V 1J2\, Canada
END:VEVENT
BEGIN:VEVENT
DTSTART;TZID=America/Vancouver:20270423T190000
DTEND;TZID=America/Vancouver:20270423T203000
DTSTAMP:20260424T180654
CREATED:20251126T165800Z
LAST-MODIFIED:20251126T185429Z
UID:10002712-1808506800-1808512200@oceola.ca
SUMMARY:Indoor handgun
DESCRIPTION:Bring out your handguns or .22 rifles and enjoy an evening shoot. Location Oceola Clubhouse
URL:https://oceola.ca/event/indoor-handgun-5/2027-04-23/
LOCATION:11888 McGowan Rd A\, Lake Country\, BC V4V 1J2\, 11888 McGowan Rd A\, Lake Country \,BC\, BC\, V4V 1J2\, Canada
END:VEVENT
BEGIN:VEVENT
DTSTART;TZID=America/Vancouver:20270426T190000
DTEND;TZID=America/Vancouver:20270426T203000
DTSTAMP:20260424T180654
CREATED:20251126T165800Z
LAST-MODIFIED:20251126T185429Z
UID:10003488-1808766000-1808771400@oceola.ca
SUMMARY:Indoor handgun
DESCRIPTION:Bring out your handguns or .22 rifles and enjoy an evening shoot. Location Oceola Clubhouse
URL:https://oceola.ca/event/indoor-handgun-5/2027-04-26/
LOCATION:11888 McGowan Rd A\, Lake Country\, BC V4V 1J2\, 11888 McGowan Rd A\, Lake Country \,BC\, BC\, V4V 1J2\, Canada
END:VEVENT
BEGIN:VEVENT
DTSTART;TZID=America/Vancouver:20270430T190000
DTEND;TZID=America/Vancouver:20270430T203000
DTSTAMP:20260424T180654
CREATED:20251126T165800Z
LAST-MODIFIED:20251126T185429Z
UID:10002714-1809111600-1809117000@oceola.ca
SUMMARY:Indoor handgun
DESCRIPTION:Bring out your handguns or .22 rifles and enjoy an evening shoot. Location Oceola Clubhouse
URL:https://oceola.ca/event/indoor-handgun-5/2027-04-30/
LOCATION:11888 McGowan Rd A\, Lake Country\, BC V4V 1J2\, 11888 McGowan Rd A\, Lake Country \,BC\, BC\, V4V 1J2\, Canada
END:VEVENT
BEGIN:VEVENT
DTSTART;TZID=America/Vancouver:20270503T190000
DTEND;TZID=America/Vancouver:20270503T203000
DTSTAMP:20260424T180654
CREATED:20251126T165800Z
LAST-MODIFIED:20251126T185429Z
UID:10003489-1809370800-1809376200@oceola.ca
SUMMARY:Indoor handgun
DESCRIPTION:Bring out your handguns or .22 rifles and enjoy an evening shoot. Location Oceola Clubhouse
URL:https://oceola.ca/event/indoor-handgun-5/2027-05-03/
LOCATION:11888 McGowan Rd A\, Lake Country\, BC V4V 1J2\, 11888 McGowan Rd A\, Lake Country \,BC\, BC\, V4V 1J2\, Canada
END:VEVENT
BEGIN:VEVENT
DTSTART;TZID=America/Vancouver:20270507T190000
DTEND;TZID=America/Vancouver:20270507T203000
DTSTAMP:20260424T180654
CREATED:20251126T165800Z
LAST-MODIFIED:20251126T185429Z
UID:10002716-1809716400-1809721800@oceola.ca
SUMMARY:Indoor handgun
DESCRIPTION:Bring out your handguns or .22 rifles and enjoy an evening shoot. Location Oceola Clubhouse
URL:https://oceola.ca/event/indoor-handgun-5/2027-05-07/
LOCATION:11888 McGowan Rd A\, Lake Country\, BC V4V 1J2\, 11888 McGowan Rd A\, Lake Country \,BC\, BC\, V4V 1J2\, Canada
END:VEVENT
BEGIN:VEVENT
DTSTART;TZID=America/Vancouver:20270510T190000
DTEND;TZID=America/Vancouver:20270510T203000
DTSTAMP:20260424T180654
CREATED:20251126T165800Z
LAST-MODIFIED:20251126T185429Z
UID:10003490-1809975600-1809981000@oceola.ca
SUMMARY:Indoor handgun
DESCRIPTION:Bring out your handguns or .22 rifles and enjoy an evening shoot. Location Oceola Clubhouse
URL:https://oceola.ca/event/indoor-handgun-5/2027-05-10/
LOCATION:11888 McGowan Rd A\, Lake Country\, BC V4V 1J2\, 11888 McGowan Rd A\, Lake Country \,BC\, BC\, V4V 1J2\, Canada
END:VEVENT
BEGIN:VEVENT
DTSTART;TZID=America/Vancouver:20270514T190000
DTEND;TZID=America/Vancouver:20270514T203000
DTSTAMP:20260424T180654
CREATED:20251126T165800Z
LAST-MODIFIED:20251126T185429Z
UID:10002718-1810321200-1810326600@oceola.ca
SUMMARY:Indoor handgun
DESCRIPTION:Bring out your handguns or .22 rifles and enjoy an evening shoot. Location Oceola Clubhouse
URL:https://oceola.ca/event/indoor-handgun-5/2027-05-14/
LOCATION:11888 McGowan Rd A\, Lake Country\, BC V4V 1J2\, 11888 McGowan Rd A\, Lake Country \,BC\, BC\, V4V 1J2\, Canada
END:VEVENT
BEGIN:VEVENT
DTSTART;TZID=America/Vancouver:20270517T190000
DTEND;TZID=America/Vancouver:20270517T203000
DTSTAMP:20260424T180654
CREATED:20251126T165800Z
LAST-MODIFIED:20251126T185429Z
UID:10003491-1810580400-1810585800@oceola.ca
SUMMARY:Indoor handgun
DESCRIPTION:Bring out your handguns or .22 rifles and enjoy an evening shoot. Location Oceola Clubhouse
URL:https://oceola.ca/event/indoor-handgun-5/2027-05-17/
LOCATION:11888 McGowan Rd A\, Lake Country\, BC V4V 1J2\, 11888 McGowan Rd A\, Lake Country \,BC\, BC\, V4V 1J2\, Canada
END:VEVENT
BEGIN:VEVENT
DTSTART;TZID=America/Vancouver:20270521T190000
DTEND;TZID=America/Vancouver:20270521T203000
DTSTAMP:20260424T180654
CREATED:20251126T165800Z
LAST-MODIFIED:20251126T185429Z
UID:10002720-1810926000-1810931400@oceola.ca
SUMMARY:Indoor handgun
DESCRIPTION:Bring out your handguns or .22 rifles and enjoy an evening shoot. Location Oceola Clubhouse
URL:https://oceola.ca/event/indoor-handgun-5/2027-05-21/
LOCATION:11888 McGowan Rd A\, Lake Country\, BC V4V 1J2\, 11888 McGowan Rd A\, Lake Country \,BC\, BC\, V4V 1J2\, Canada
END:VEVENT
BEGIN:VEVENT
DTSTART;TZID=America/Vancouver:20270524T190000
DTEND;TZID=America/Vancouver:20270524T203000
DTSTAMP:20260424T180654
CREATED:20251126T165800Z
LAST-MODIFIED:20251126T185429Z
UID:10003492-1811185200-1811190600@oceola.ca
SUMMARY:Indoor handgun
DESCRIPTION:Bring out your handguns or .22 rifles and enjoy an evening shoot. Location Oceola Clubhouse
URL:https://oceola.ca/event/indoor-handgun-5/2027-05-24/
LOCATION:11888 McGowan Rd A\, Lake Country\, BC V4V 1J2\, 11888 McGowan Rd A\, Lake Country \,BC\, BC\, V4V 1J2\, Canada
END:VEVENT
END:VCALENDAR